BEGIN:VCALENDAR
VERSION:2.0
PRODID:-//Town of Pittsville - ECPv6.15.13//NONSGML v1.0//EN
CALSCALE:GREGORIAN
METHOD:PUBLISH
X-ORIGINAL-URL:https://pittsvillemd.gov
X-WR-CALDESC:Events for Town of Pittsville
REFRESH-INTERVAL;VALUE=DURATION:PT1H
X-Robots-Tag:noindex
X-PUBLISHED-TTL:PT1H
BEGIN:VTIMEZONE
TZID:America/New_York
BEGIN:DAYLIGHT
TZOFFSETFROM:-0500
TZOFFSETTO:-0400
TZNAME:EDT
DTSTART:20220313T070000
END:DAYLIGHT
BEGIN:STANDARD
TZOFFSETFROM:-0400
TZOFFSETTO:-0500
TZNAME:EST
DTSTART:20221106T060000
END:STANDARD
BEGIN:DAYLIGHT
TZOFFSETFROM:-0500
TZOFFSETTO:-0400
TZNAME:EDT
DTSTART:20230312T070000
END:DAYLIGHT
BEGIN:STANDARD
TZOFFSETFROM:-0400
TZOFFSETTO:-0500
TZNAME:EST
DTSTART:20231105T060000
END:STANDARD
BEGIN:DAYLIGHT
TZOFFSETFROM:-0500
TZOFFSETTO:-0400
TZNAME:EDT
DTSTART:20240310T070000
END:DAYLIGHT
BEGIN:STANDARD
TZOFFSETFROM:-0400
TZOFFSETTO:-0500
TZNAME:EST
DTSTART:20241103T060000
END:STANDARD
END:VTIMEZONE
BEGIN:VEVENT
DTSTART;TZID=America/New_York:20230417T190000
DTEND;TZID=America/New_York:20230417T190000
DTSTAMP:20260420T171609
CREATED:20230413T152622Z
LAST-MODIFIED:20230413T152622Z
UID:2498-1681758000-1681758000@pittsvillemd.gov
SUMMARY:Town Council Meeting
DESCRIPTION:Please be advised that the next town meeting will be on Monday\, April 17\, 2023\, commencing at 7:00 pm at Town Hall.
URL:https://pittsvillemd.gov/event/town-council-meeting-5/
LOCATION:Town Hall\, 7505 Gumboro Road\, Pittsville\, MD\, 21850\, United States
END:VEVENT
BEGIN:VEVENT
DTSTART;TZID=America/New_York:20230420T060000
DTEND;TZID=America/New_York:20230420T060000
DTSTAMP:20260420T171609
CREATED:20230317T121715Z
LAST-MODIFIED:20230317T121715Z
UID:2463-1681970400-1681970400@pittsvillemd.gov
SUMMARY:Bulk Pickup: Spring 2023
DESCRIPTION:BULK PICK UP DAY: Thursday\, April 20\, 2023\nPLEASE HAVE YOUR TRASH CURBSIDE BY 6:00 A.M. \nBULK ITEMS: CURBSIDE \n• Cardboard boxes\n• Furniture and appliances\, picnic table\, chairs and benches are considered to be furniture\, mattresses\, box springs\, all can be set out and we will take either curbside\n• Leaves\, placed in bags\n• Any household items\, clothing\, books\, toys\, need to be bagged\, but under 50 pounds so our guys can lift them\n• Bikes\, trikes \nWILL NOT TAKE: \n• No construction debris\, cinder block\, bricks\n• Boats\n• Computers\, tires\, paint\, chemicals\, liquids\, waste\, or other hazardous materials\, we cannot take them.\n• No animal wastes\n• No tires\, oil\, paint\n• Tear down fencing around yard\n• Tear down of sheds.\n• Automobiles\, parts\, trans and engines\n• No motorcycles\n• We do not take whole trees cut down\, stumps
URL:https://pittsvillemd.gov/event/bulk-pickup-spring-2023/
LOCATION:MD
END:VEVENT
END:VCALENDAR