BEGIN:VCALENDAR
VERSION:2.0
PRODID:-//Town of Pittsville - ECPv6.15.13//NONSGML v1.0//EN
CALSCALE:GREGORIAN
METHOD:PUBLISH
X-WR-CALNAME:Town of Pittsville
X-ORIGINAL-URL:https://pittsvillemd.gov
X-WR-CALDESC:Events for Town of Pittsville
REFRESH-INTERVAL;VALUE=DURATION:PT1H
X-Robots-Tag:noindex
X-PUBLISHED-TTL:PT1H
BEGIN:VTIMEZONE
TZID:America/New_York
BEGIN:DAYLIGHT
TZOFFSETFROM:-0500
TZOFFSETTO:-0400
TZNAME:EDT
DTSTART:20210314T070000
END:DAYLIGHT
BEGIN:STANDARD
TZOFFSETFROM:-0400
TZOFFSETTO:-0500
TZNAME:EST
DTSTART:20211107T060000
END:STANDARD
BEGIN:DAYLIGHT
TZOFFSETFROM:-0500
TZOFFSETTO:-0400
TZNAME:EDT
DTSTART:20220313T070000
END:DAYLIGHT
BEGIN:STANDARD
TZOFFSETFROM:-0400
TZOFFSETTO:-0500
TZNAME:EST
DTSTART:20221106T060000
END:STANDARD
BEGIN:DAYLIGHT
TZOFFSETFROM:-0500
TZOFFSETTO:-0400
TZNAME:EDT
DTSTART:20230312T070000
END:DAYLIGHT
BEGIN:STANDARD
TZOFFSETFROM:-0400
TZOFFSETTO:-0500
TZNAME:EST
DTSTART:20231105T060000
END:STANDARD
END:VTIMEZONE
BEGIN:VEVENT
DTSTART;TZID=America/New_York:20221117T060000
DTEND;TZID=America/New_York:20221117T060000
DTSTAMP:20260421T010051
CREATED:20221107T184822Z
LAST-MODIFIED:20221107T184822Z
UID:2267-1668664800-1668664800@pittsvillemd.gov
SUMMARY:Bulk Pickup
DESCRIPTION:PLEASE HAVE YOUR TRASH CURBSIDE BY 6:00 A.M. \nBULK ITEMS: CURBSIDE\n• Cardboard boxes\n• Furniture and appliances\, picnic table\, chairs and benches are considered to be furniture\, mattresses\, box springs\, all can be set out and we will take either curbside\n• Leaves\, placed in bags\n• Any household items\, clothing\, books\, toys\, need to be bagged\, but under 50 pounds so our guys can lift them\n• Bikes\, trikes \nWILL NOT TAKE:\n• No construction debris\, cinder block\, bricks\n• Boats\n• Computers\, tires\, paint\, chemicals\, liquids\, waste\, or other hazardous materials\, we cannot take them.\n• No animal wastes\n• No tires\, oil\, paint\n• Tear down fencing around yard\n• Tear down of sheds.\n• Automobiles\, parts\, trans and engines\n• No motorcycles\n• We do not take whole trees cut down\, stumps
URL:https://pittsvillemd.gov/event/bulk-pickup/
LOCATION:MD
END:VEVENT
BEGIN:VEVENT
DTSTART;TZID=America/New_York:20221121T193000
DTEND;TZID=America/New_York:20221121T193000
DTSTAMP:20260421T010051
CREATED:20221118T183824Z
LAST-MODIFIED:20221118T183824Z
UID:2276-1669059000-1669059000@pittsvillemd.gov
SUMMARY:Town Council Meeting
DESCRIPTION:
URL:https://pittsvillemd.gov/event/town-council-meeting/
LOCATION:Town Hall\, 7505 Gumboro Road\, Pittsville\, MD\, 21850\, United States
END:VEVENT
END:VCALENDAR