BEGIN:VCALENDAR
VERSION:2.0
PRODID:-//Town of Pittsville - ECPv6.15.13//NONSGML v1.0//EN
CALSCALE:GREGORIAN
METHOD:PUBLISH
X-WR-CALNAME:Town of Pittsville
X-ORIGINAL-URL:https://pittsvillemd.gov
X-WR-CALDESC:Events for Town of Pittsville
REFRESH-INTERVAL;VALUE=DURATION:PT1H
X-Robots-Tag:noindex
X-PUBLISHED-TTL:PT1H
BEGIN:VTIMEZONE
TZID:UTC
BEGIN:STANDARD
TZOFFSETFROM:+0000
TZOFFSETTO:+0000
TZNAME:UTC
DTSTART:20160101T000000
END:STANDARD
END:VTIMEZONE
BEGIN:VEVENT
DTSTART;TZID=UTC:20190507T080000
DTEND;TZID=UTC:20190513T160000
DTSTAMP:20260420T030649
CREATED:20190507T192556Z
LAST-MODIFIED:20190509T222553Z
UID:629-1557216000-1557763200@pittsvillemd.gov
SUMMARY:BOTTLED WATER FOR TOWN RESIDENTS
DESCRIPTION:BOTTLED WATER FOR TOWN RESIDENTS \n  \nPlease be advised that bottled water will be available to residents at the following locations: \nFriday\, May 10th:  Pittsville Town Hall \n7505 Gumboro Road \n8am to 4pm \n  \n  \nSaturday\, May 11th:  Ayres United Methodist Church \n7516 Gumboro Road \n10am to 2pm \n  \nMonday\, May 13th:   Pittsville Town Hall \n7505 Gumboro Road \n8am to 4pm \n  \nThe locations are also accepting bottled water donations. \n  \n  \n 
URL:https://pittsvillemd.gov/event/bottled-water-town-residents/
END:VEVENT
BEGIN:VEVENT
DTSTART;TZID=UTC:20190504T100000
DTEND;TZID=UTC:20190504T160000
DTSTAMP:20260420T030649
CREATED:20190405T230000Z
LAST-MODIFIED:20190405T234253Z
UID:602-1556964000-1556985600@pittsvillemd.gov
SUMMARY:STRAWBERRY FESTIVAL
DESCRIPTION:Please come and visit our Strawberry Festival! We will have fun filled day with arts and crafts\, face painting\, food vendors and much more! \nThose interested in entering the Miss Pittsville Contest or the Miss Shortcake Princess Contest should pick up Entry Forms at the \nPittsville Town Hall located at 7505 Gumboro Road. \n  \n  \n 
URL:https://pittsvillemd.gov/event/strawberry-festival/
ATTACH;FMTTYPE=image/jpeg:https://pittsvillemd.gov/wp-content/uploads/2019/04/Strawberry-Festival-1.jpg
END:VEVENT
BEGIN:VEVENT
DTSTART;TZID=UTC:20190318T080000
DTEND;TZID=UTC:20190427T170000
DTSTAMP:20260420T030649
CREATED:20190319T004831Z
LAST-MODIFIED:20190319T004831Z
UID:565-1552896000-1556384400@pittsvillemd.gov
SUMMARY:BULK PICK UP WILL BE HELD ON SATURDAY\, APRIL 27\, 2019.
DESCRIPTION:NOTICE \nTOWN RESIDENTS \n  \n  \n  \nIT’S THAT TIME AGAIN!!! \nBULK PICK UP DAY \nSATURDAY\,APRIL 27\, 2019. \nPLEASE HAVE YOUR TRASH CURBSIDE \nBY 7:00 A.M. \n  \n ABSOLUTELY NO YARD WASTE\, BUILDING MATERIALS\, PAINT CANS\, TIRES OR ANYTHING HAVING CONTAINED GASOLINE\, OIL OR FREON. \n  \n  \n                                                                                            
URL:https://pittsvillemd.gov/event/bulk-pick-will-held-saturday-april-27-2019/
END:VEVENT
BEGIN:VEVENT
DTSTART;TZID=UTC:20190116T080000
DTEND;TZID=UTC:20190118T170000
DTSTAMP:20260420T030649
CREATED:20190116T181827Z
LAST-MODIFIED:20190116T181906Z
UID:539-1547625600-1547830800@pittsvillemd.gov
SUMMARY:TRASH PICK UP WILL BE ON FRIDAY\, JANUARY 18TH DUE TO CLOSURE ON MONDAY
DESCRIPTION:
URL:https://pittsvillemd.gov/event/trash-pick-will-friday-january-18th-due-closure-monday/
END:VEVENT
BEGIN:VEVENT
DTSTART;TZID=UTC:20190103T080000
DTEND;TZID=UTC:20190110T180000
DTSTAMP:20260420T030649
CREATED:20190104T005443Z
LAST-MODIFIED:20190104T204935Z
UID:525-1546502400-1547143200@pittsvillemd.gov
SUMMARY:TAX DITCH MEETING will be held on January 10\, 2019 at 6pm at the Pittsville Fire Department
DESCRIPTION:
URL:https://pittsvillemd.gov/event/tax-ditch-meeting/
END:VEVENT
BEGIN:VEVENT
DTSTART;TZID=UTC:20181228T080000
DTEND;TZID=UTC:20190104T170000
DTSTAMP:20260420T030649
CREATED:20181228T221701Z
LAST-MODIFIED:20181228T221904Z
UID:521-1545984000-1546621200@pittsvillemd.gov
SUMMARY:TRASH PICK-UP WILL BE ON FRIDAY\, JANUARY 4\, 2019
DESCRIPTION:
URL:https://pittsvillemd.gov/event/trash-pick-will-friday-january-2-2019/
END:VEVENT
BEGIN:VEVENT
DTSTART;TZID=UTC:20181120T080000
DTEND;TZID=UTC:20181215T233000
DTSTAMP:20260420T030649
CREATED:20181120T213856Z
LAST-MODIFIED:20181128T215507Z
UID:494-1542700800-1544916600@pittsvillemd.gov
SUMMARY:COME OUT TO CELEBRATE THE CHRISTMAS SEASON AND THE TOWN'S 150TH ANNIVERSARY
DESCRIPTION:COME OUT TO CELEBRATE THE CHRISTMAS SEASON AND THE TOWN’S 15OTH ANNIVERSARY!!! \n  \nThe Pittsville community is inviting to attend and participate in the following activities to ring in the Christmas season AND celebrate the Town of Pittsville’s 150th Anniversary: \n  \n\nOn December 1\, the Town Commissioners of Pittsville and the Forge Ministry will hold the first Town Christmas Tree Lighting ceremony at the Forge Center on Gumboro Road beginning at 6:00 pm to include a visit with Santa Claus and his elves. Refreshments will be provided\n\n  \n\nThe Wicomico Eastside Chamber of Commerce is sponsoring the Town’s Christmas Parade on December 9\, starting at 5:30 pm. And including a house decorating contest to be judged by members of the Chamber.\n\n  \n\nChristmas Open House to be held at Pittsville Pizza and sponsored by the Town of Pittsville and the Forge Ministry on December 15th from 2-5pm to include pizza\, soda & cake.\n\n  \nCome Out to Celebrate with family\, friends\, and fellowship! \n  \n  \n 
URL:https://pittsvillemd.gov/event/come-celebrate-christmas-season-towns-150th-anniversary/
END:VEVENT
BEGIN:VEVENT
DTSTART;TZID=UTC:20181119T080000
DTEND;TZID=UTC:20181123T170000
DTSTAMP:20260420T030649
CREATED:20181119T212125Z
LAST-MODIFIED:20181119T212125Z
UID:492-1542614400-1542992400@pittsvillemd.gov
SUMMARY:TRASH PICK-UP WILL BE ON FRIDAY\, NOVEMBER 23RD DUE TO THE HOLIDAY.
DESCRIPTION:
URL:https://pittsvillemd.gov/event/trash-pick-will-friday-november-23rd-due-holiday/
END:VEVENT
BEGIN:VEVENT
DTSTART;VALUE=DATE:20181113
DTEND;VALUE=DATE:20181210
DTSTAMP:20260420T030649
CREATED:20181114T005950Z
LAST-MODIFIED:20181114T005950Z
UID:490-1542067200-1544399999@pittsvillemd.gov
SUMMARY:CHRISTMAS PARADE ON DECEMBER 9TH
DESCRIPTION:The Wicomico Eastside Chamber of Commerce will be sponsoring a Christmas Parade on 12/09/18. \nThe parade starts at 5:30pm and will go from Parker Street East on Main Street to Cemetery Avenue \nleft on Cemetery Avenue to Railroad Avenue and left on Railroad Avenue back toward Parker Street. \nThe Chamber of Commerce is inviting everyone along the parade route to participate in decorating \ntheir houses in an expression of “Holiday Cheer”. \nMembers of the Chamber will be traveling the parade route and will pick one house from those participating \nas the best decorated home on the route. \nThe “Winner” will receive a $100.00 Gift Card to Boxcar40!! \n  \n  \n 
URL:https://pittsvillemd.gov/event/christmas-parade-december-9th/
END:VEVENT
BEGIN:VEVENT
DTSTART;VALUE=DATE:20181110
DTEND;VALUE=DATE:20181111
DTSTAMP:20260420T030649
CREATED:20180907T184917Z
LAST-MODIFIED:20180913T182606Z
UID:399-1541808000-1541894399@pittsvillemd.gov
SUMMARY:BULK PICK-UP IS NOVEMBER 10\, 2018
DESCRIPTION:NOTICE\nTOWN RESIDENTS \nIT’S THAT TIME AGAIN!!!\nBULK PICK UP DAY\nSATURDAY\, NOVEMBER 10\, 2018.\nPLEASE HAVE YOUR TRASH CURBSIDE\nBY 7:00 A.M. \n ABSOLUTELY NO YARD WASTE\, BUILDING MATERIALS\, PAINT CANS\, TIRES OR ANYTHING HAVING CONTAINED GASOLINE\, OIL OR FREON.
URL:https://pittsvillemd.gov/event/bulk-pick-up/
END:VEVENT
BEGIN:VEVENT
DTSTART;TZID=UTC:20180921T000000
DTEND;TZID=UTC:20181022T235900
DTSTAMP:20260420T030649
CREATED:20180921T230251Z
LAST-MODIFIED:20180921T232202Z
UID:436-1537488000-1540252740@pittsvillemd.gov
SUMMARY:NATIONAL NIGHT OUT PHOTOS
DESCRIPTION: 
URL:https://pittsvillemd.gov/event/national-night-photos/
ATTACH;FMTTYPE=image/jpeg:https://pittsvillemd.gov/wp-content/uploads/2018/09/DSC_0035.jpg
END:VEVENT
BEGIN:VEVENT
DTSTART;VALUE=DATE:20180823
DTEND;VALUE=DATE:20180901
DTSTAMP:20260420T030649
CREATED:20180823T202706Z
LAST-MODIFIED:20180823T202706Z
UID:393-1534982400-1535759999@pittsvillemd.gov
SUMMARY:FIRE HYDRANT FLUSHING
DESCRIPTION:NOTICE TO RESIDENTS \nTOWN OF PITTSVILLE\nFIRE HYDRANT FLUSHING \nPlease be advised that the Town of Pittsville will be flushing all Fire Hydrants from August 27th thru August 31st. \nWe flush water lines through the use of hydrants\, which is an important preventive maintenance activity.  Although it may appear to waste water\, the process is part of a routine maintenance program necessary to maintain the integrity of the water system allowing us to continue to deliver the highest quality water possible to our customers. \nAs a result of the line flushing process\, residents in the immediate vicinity of the work may experience temporary discoloration of their water.  This discoloration consists primarily of harmless silt and air and does not affect the safety of the water.  If you experience discoloration in your water after crews have been flushing in your neighborhood\, clear the pipes in your home by running your water faucets in your home a few minutes.  We recommend using the tub or outside faucet. \nIf you require additional information\, please contact the Town Office/Water Department. \nThank you.
URL:https://pittsvillemd.gov/event/fire-hydrant-flushing/
END:VEVENT
BEGIN:VEVENT
DTSTART;VALUE=DATE:20180514
DTEND;VALUE=DATE:20180616
DTSTAMP:20260420T030649
CREATED:20180514T201450Z
LAST-MODIFIED:20180514T201450Z
UID:284-1526256000-1529107199@pittsvillemd.gov
SUMMARY:LEAD AND COPPER TESTING.
DESCRIPTION:The Town of Pittsville Water Treatment Plant will be handing out sample bottles for Lead and Copper Testing.  There is a limited amount of bottles available so if you are interested or have any questions\, please either visit the Town Office at 7505 Gumboro Road or call 410-835-8872 and ask for Brandon Wilkins.  Directions for collecting samples will be provided when participants collect the bottle.
URL:https://pittsvillemd.gov/event/lead-copper-testing/
END:VEVENT
BEGIN:VEVENT
DTSTART;TZID=UTC:20180216T000000
DTEND;TZID=UTC:20180421T080000
DTSTAMP:20260420T030649
CREATED:20180217T004331Z
LAST-MODIFIED:20180217T004331Z
UID:206-1518739200-1524297600@pittsvillemd.gov
SUMMARY:BULK PICK-UP will be held on Saturday April 21\, 2018.  Please have all items curbside by 7am.
DESCRIPTION:
URL:https://pittsvillemd.gov/event/bulk-pick-will-held-saturday-april-21-2018-please-items-curbside-7am/
END:VEVENT
BEGIN:VEVENT
DTSTART;TZID=UTC:20171118T090000
DTEND;TZID=UTC:20171118T140000
DTSTAMP:20260420T030649
CREATED:20171109T020933Z
LAST-MODIFIED:20171117T035059Z
UID:60-1510995600-1511013600@pittsvillemd.gov
SUMMARY:Fall Festival
DESCRIPTION:The Pittsville Fall festival is here!
URL:https://pittsvillemd.gov/event/fall-festival/
LOCATION:Pittsville Volunteer Fire Department\, 7442 Gumboro Road\, Pittsville\, MD\, 21850\, United States
ATTACH;FMTTYPE=image/jpeg:https://pittsvillemd.gov/wp-content/uploads/2017/11/0d876bd7070a20cb6e3ed33858eb8007-1.jpg
END:VEVENT
END:VCALENDAR