BEGIN:VCALENDAR
VERSION:2.0
PRODID:-//Town of Pittsville - ECPv6.15.13//NONSGML v1.0//EN
CALSCALE:GREGORIAN
METHOD:PUBLISH
X-WR-CALNAME:Town of Pittsville
X-ORIGINAL-URL:https://pittsvillemd.gov
X-WR-CALDESC:Events for Town of Pittsville
REFRESH-INTERVAL;VALUE=DURATION:PT1H
X-Robots-Tag:noindex
X-PUBLISHED-TTL:PT1H
BEGIN:VTIMEZONE
TZID:UTC
BEGIN:STANDARD
TZOFFSETFROM:+0000
TZOFFSETTO:+0000
TZNAME:UTC
DTSTART:20160101T000000
END:STANDARD
END:VTIMEZONE
BEGIN:VEVENT
DTSTART;VALUE=DATE:20180514
DTEND;VALUE=DATE:20180616
DTSTAMP:20260420T205310
CREATED:20180514T201450Z
LAST-MODIFIED:20180514T201450Z
UID:284-1526256000-1529107199@pittsvillemd.gov
SUMMARY:LEAD AND COPPER TESTING.
DESCRIPTION:The Town of Pittsville Water Treatment Plant will be handing out sample bottles for Lead and Copper Testing.  There is a limited amount of bottles available so if you are interested or have any questions\, please either visit the Town Office at 7505 Gumboro Road or call 410-835-8872 and ask for Brandon Wilkins.  Directions for collecting samples will be provided when participants collect the bottle.
URL:https://pittsvillemd.gov/event/lead-copper-testing/
LOCATION:MD
END:VEVENT
BEGIN:VEVENT
DTSTART;TZID=UTC:20180216T000000
DTEND;TZID=UTC:20180421T080000
DTSTAMP:20260420T205310
CREATED:20180217T004331Z
LAST-MODIFIED:20180217T004331Z
UID:206-1518739200-1524297600@pittsvillemd.gov
SUMMARY:BULK PICK-UP will be held on Saturday April 21\, 2018.  Please have all items curbside by 7am.
DESCRIPTION:
URL:https://pittsvillemd.gov/event/bulk-pick-will-held-saturday-april-21-2018-please-items-curbside-7am/
LOCATION:MD
END:VEVENT
BEGIN:VEVENT
DTSTART;TZID=UTC:20171118T090000
DTEND;TZID=UTC:20171118T140000
DTSTAMP:20260420T205310
CREATED:20171109T020933Z
LAST-MODIFIED:20171117T035059Z
UID:60-1510995600-1511013600@pittsvillemd.gov
SUMMARY:Fall Festival
DESCRIPTION:The Pittsville Fall festival is here!
URL:https://pittsvillemd.gov/event/fall-festival/
LOCATION:Pittsville Volunteer Fire Department\, 7442 Gumboro Road\, Pittsville\, MD\, 21850\, United States
ATTACH;FMTTYPE=image/jpeg:https://pittsvillemd.gov/wp-content/uploads/2017/11/0d876bd7070a20cb6e3ed33858eb8007-1.jpg
END:VEVENT
END:VCALENDAR