BEGIN:VCALENDAR
VERSION:2.0
PRODID:-//Town of Pittsville - ECPv6.15.13//NONSGML v1.0//EN
CALSCALE:GREGORIAN
METHOD:PUBLISH
X-WR-CALNAME:Town of Pittsville
X-ORIGINAL-URL:https://pittsvillemd.gov
X-WR-CALDESC:Events for Town of Pittsville
REFRESH-INTERVAL;VALUE=DURATION:PT1H
X-Robots-Tag:noindex
X-PUBLISHED-TTL:PT1H
BEGIN:VTIMEZONE
TZID:America/New_York
BEGIN:DAYLIGHT
TZOFFSETFROM:-0500
TZOFFSETTO:-0400
TZNAME:EDT
DTSTART:20210314T070000
END:DAYLIGHT
BEGIN:STANDARD
TZOFFSETFROM:-0400
TZOFFSETTO:-0500
TZNAME:EST
DTSTART:20211107T060000
END:STANDARD
BEGIN:DAYLIGHT
TZOFFSETFROM:-0500
TZOFFSETTO:-0400
TZNAME:EDT
DTSTART:20220313T070000
END:DAYLIGHT
BEGIN:STANDARD
TZOFFSETFROM:-0400
TZOFFSETTO:-0500
TZNAME:EST
DTSTART:20221106T060000
END:STANDARD
BEGIN:DAYLIGHT
TZOFFSETFROM:-0500
TZOFFSETTO:-0400
TZNAME:EDT
DTSTART:20230312T070000
END:DAYLIGHT
BEGIN:STANDARD
TZOFFSETFROM:-0400
TZOFFSETTO:-0500
TZNAME:EST
DTSTART:20231105T060000
END:STANDARD
END:VTIMEZONE
BEGIN:VTIMEZONE
TZID:UTC
BEGIN:STANDARD
TZOFFSETFROM:+0000
TZOFFSETTO:+0000
TZNAME:UTC
DTSTART:20170101T000000
END:STANDARD
END:VTIMEZONE
BEGIN:VEVENT
DTSTART;TZID=America/New_York:20220813T100000
DTEND;TZID=America/New_York:20220813T100000
DTSTAMP:20260420T023840
CREATED:20220808T233044Z
LAST-MODIFIED:20220808T233044Z
UID:2213-1660384800-1660384800@pittsvillemd.gov
SUMMARY:Dedication Ceremony (Corporal Glenn Hilliard Way)
DESCRIPTION:The Pittsville Town Commissioners invite the public to attend the dedication ceremony on Saturday August 13th at 10am\, at the Pittsville Fire Station on the corner of Main Street and Gumboro Road. \nThe dedication will recognize Main Street as Corporal Glenn Hilliard Way to honor Corporal Hilliard for his service and sacrifice in the line of duty.
URL:https://pittsvillemd.gov/event/dedication-ceremony-corporal-glenn-hilliard-way/
LOCATION:Pittsville Volunteer Fire Department\, 7442 Gumboro Road\, Pittsville\, MD\, 21850\, United States
ATTACH;FMTTYPE=image/jpeg:https://pittsvillemd.gov/wp-content/uploads/2022/08/image003.jpg
END:VEVENT
BEGIN:VEVENT
DTSTART;TZID=America/New_York:20220615T080000
DTEND;TZID=America/New_York:20220618T170000
DTSTAMP:20260420T023840
CREATED:20220615T152937Z
LAST-MODIFIED:20220615T153001Z
UID:2118-1655280000-1655571600@pittsvillemd.gov
SUMMARY:PITTSVILLE STRAWBERRY FESTIVAL
DESCRIPTION:
URL:https://pittsvillemd.gov/event/pittsville-strawberry-festival-2/
LOCATION:MD
END:VEVENT
BEGIN:VEVENT
DTSTART;TZID=America/New_York:20220614T000000
DTEND;TZID=America/New_York:20220618T235900
DTSTAMP:20260420T023840
CREATED:20220614T162827Z
LAST-MODIFIED:20220615T152706Z
UID:2107-1655164800-1655596740@pittsvillemd.gov
SUMMARY:Pittsville Strawberry Festival
DESCRIPTION:
URL:https://pittsvillemd.gov/event/pittsville-strawberry-festival/
LOCATION:MD
ATTACH;FMTTYPE=image/jpeg:https://pittsvillemd.gov/wp-content/uploads/2022/06/Strawberry-Festival1024_1-1.jpg
END:VEVENT
BEGIN:VEVENT
DTSTART;TZID=America/New_York:20220516T000000
DTEND;TZID=America/New_York:20220517T235900
DTSTAMP:20260420T023840
CREATED:20220512T193940Z
LAST-MODIFIED:20220516T175749Z
UID:1983-1652659200-1652831940@pittsvillemd.gov
SUMMARY:PINE STREET RESURFACING
DESCRIPTION:**NOTICE**  PINE STREET RESURFACING \n  \nPLEASE BE ADVISED THE RESURFACING WORK ON PINE STREET WILL BEGIN \nON FRIDAY\, MAY13TH (weather permitting). \nPINE STREET WILL BE CLOSED ON MONDAY\, MAY 16TH AND TUESDAY\, MAY17th \n FROM 6AM – 6PM. \n(Local Traffic Only Allowed) \nWE APOLOGIZE FOR ANY INCONVENIENCE THIS MAY CAUSE. \n 
URL:https://pittsvillemd.gov/event/pine-street-resurfacing/
LOCATION:MD
END:VEVENT
BEGIN:VEVENT
DTSTART;TZID=America/New_York:20220513T080000
DTEND;TZID=America/New_York:20220513T170000
DTSTAMP:20260420T023840
CREATED:20220513T135438Z
LAST-MODIFIED:20220513T135438Z
UID:1992-1652428800-1652461200@pittsvillemd.gov
SUMMARY:**NOTICE**  Pine Street Resurfacing
DESCRIPTION:**NOTICE**  PINE STREET RESURFACING\n \nPLEASE BE ADVISED THE RESURFACING WORK ON PINE STREET WILL BEGIN\nON FRIDAY\, MAY13TH (weather permitting).\nPINE STREET WILL BE CLOSED ON MONDAY\, MAY 16TH AND TUESDAY\, MAY17th\n FROM 6AM – 6PM.\n(Local Traffic Only Allowed)\n\nWE APOLOGIZE FOR ANY INCONVENIENCE THIS MAY CAUSE.\n 
URL:https://pittsvillemd.gov/event/notice-pine-street-resurfacing/
LOCATION:MD
END:VEVENT
BEGIN:VEVENT
DTSTART;VALUE=DATE:20220421
DTEND;VALUE=DATE:20220422
DTSTAMP:20260420T023840
CREATED:20220309T173455Z
LAST-MODIFIED:20220315T151121Z
UID:1925-1650499200-1650585599@pittsvillemd.gov
SUMMARY:BULK PICK UP DAY WILL BE HELD ON THURSDAY\, APRIL 21\, 2022
DESCRIPTION:NOTICE\nTOWN RESIDENTS\nIT’S THAT TIME AGAIN!!!\nBULK PICK UP DAY\nThursday\, April 21\, 2022.\nPLEASE HAVE YOUR TRASH CURBSIDE\nBY 6:00 A.M.\n \nBULK ITEMS: CURBSIDE\n\n\nCardboard boxes\n\n\nFurniture and appliances\, picnic table\, chairs and benches are considered to be furniture\, mattresses\, box springs\, all can be set out and we will take either curbside\n\n\nLeaves\, placed in bags\n\n\nAny household items\, clothing\, books\, toys\, need to be bagged\, but under 50 pounds so our guys can lift them\n\n\nBikes\, trikes\n\n\n\nWILL NOT TAKE:\n\n\nNo construction debris\, cinder block\, bricks\n\n\nBoats\n\n\nComputers\, tires\, paint\, chemicals\, liquids\, waste or other hazardous materials\, we cannot take them.\n\n\nNo animal wastes\n\n\nNo tires\, oil\, paint\n\n\nTear down fencing around yard\n\n\nTear down of sheds.\n\n\nAutomobiles\, parts\, trans and engines\n\n\nNo motorcycles\n\n\nWe do not take whole trees cut down\, stumps\n\n\n\n 
URL:https://pittsvillemd.gov/event/bulk-pick-up-day-will-be-held-on-thursday-april-21-2022/
LOCATION:MD
END:VEVENT
BEGIN:VEVENT
DTSTART;TZID=UTC:20211030T180000
DTEND;TZID=UTC:20211030T200000
DTSTAMP:20260420T023840
CREATED:20211019T183711Z
LAST-MODIFIED:20211019T184345Z
UID:1659-1635616800-1635624000@pittsvillemd.gov
SUMMARY:"TRUNK OR TREAT"
DESCRIPTION:
URL:https://pittsvillemd.gov/event/trunk-or-treat/
LOCATION:MD
ATTACH;FMTTYPE=image/png:https://pittsvillemd.gov/wp-content/uploads/2021/10/Trunk-or-Treat.png
END:VEVENT
BEGIN:VEVENT
DTSTART;TZID=UTC:20210804T170000
DTEND;TZID=UTC:20210804T200000
DTSTAMP:20260420T023840
CREATED:20210726T215530Z
LAST-MODIFIED:20210726T215800Z
UID:1599-1628096400-1628107200@pittsvillemd.gov
SUMMARY:NATIONAL NIGHT OUT August 4\, 2021
DESCRIPTION:NATIONAL NIGHT OUT\nAugust 4\, 2021\n5:00 pm-8:00 pm\n\nThe Pittsville Town Commissioners and the Pittsville Police Department announce the Town’s annual “National Night Out” program and event to be held on Wednesday\, August 4\, 2021 commencing at 5:00 pm at the town park and pavilion located on Pearl Street.\n\nPublic Safety activities\, refreshments\, and entertainment to be provided. All are invited to come out and support our “first responders”.
URL:https://pittsvillemd.gov/event/national-night-out/
LOCATION:MD
END:VEVENT
BEGIN:VEVENT
DTSTART;TZID=UTC:20210304T080000
DTEND;TZID=UTC:20210415T170000
DTSTAMP:20260420T023840
CREATED:20210304T230256Z
LAST-MODIFIED:20210304T230306Z
UID:1502-1614844800-1618506000@pittsvillemd.gov
SUMMARY:"BULK PICK UP DAY" will be held on Thursday\, April 15\, 2021
DESCRIPTION:NOTICE \nTOWN RESIDENTS \n\nIT’S THAT TIME AGAIN!!! \nBULK PICK UP DAY \nThursday\, April 15\, 2021. \nPLEASE HAVE YOUR TRASH CURBSIDE \nBY 6:00 A.M. \nBULK ITEMS: CURBSIDE \n\nCardboard boxes.\nFurniture and appliances\, picnic table\, chairs and benches are considered to be furniture\, mattresses\, box springs\, all can be set out and we will take either curbside.\nLeaves\, placed in bags\nAny household items\, clothing\, books\, toys\, need to be bagged\, but under 50 pounds so our guys can lift them.\nBikes\, trikes\n\n  \nWILL NOT TAKE: \n\nNo construction debris\, cinders block\, bricks\nBoats\nComputers\, tires\, paint\, chemicals\, liquids\, waste or other hazardous materials\, we cannot take them\nNo animal waste\nNo tires\, oil\, paint\nTear down fencing around yard\nTear down of sheds.\nAutomobiles\, parts\, trans and engines\nNo motorcycles\nBoats\nWe do not take whole trees cut down\, stumps\n\n  \n 
URL:https://pittsvillemd.gov/event/bulk-pick-day-will-held-thursday-april-15-2021/
LOCATION:MD
END:VEVENT
BEGIN:VEVENT
DTSTART;TZID=UTC:20201118T080000
DTEND;TZID=UTC:20201213T170000
DTSTAMP:20260420T023840
CREATED:20201118T222025Z
LAST-MODIFIED:20201118T222025Z
UID:1415-1605686400-1607878800@pittsvillemd.gov
SUMMARY:**SANTA RIDE THRU TOWN** will be held by the Pittsville Volunteer Fire Company on December 13th from 12:00pm to 5:00pm
DESCRIPTION:
URL:https://pittsvillemd.gov/event/santa-ride-thru-town-will-held-pittsville-volunteer-fire-company-december-13th-1200pm-500pm/
LOCATION:MD
END:VEVENT
BEGIN:VEVENT
DTSTART;TZID=UTC:20201117T080000
DTEND;TZID=UTC:20201117T170000
DTSTAMP:20260420T023840
CREATED:20201118T014633Z
LAST-MODIFIED:20201118T014633Z
UID:1411-1605600000-1605632400@pittsvillemd.gov
SUMMARY:***SANTA RIDE THRU TOWN*** will be held by the Pittsville Volunteer Fire Company on December 13\, 2020 from 12:00pm to 5:00pm
DESCRIPTION:
URL:https://pittsvillemd.gov/event/santa-ride-thru-town-will-held-pittsville-volunteer-fire-company-december-13-2020-1200pm-500pm/
LOCATION:MD
END:VEVENT
BEGIN:VEVENT
DTSTART;TZID=UTC:20191130T180000
DTEND;TZID=UTC:20191130T193000
DTSTAMP:20260420T023840
CREATED:20191127T183842Z
LAST-MODIFIED:20191127T211153Z
UID:1099-1575136800-1575142200@pittsvillemd.gov
SUMMARY:CHRISTMAS PARADE
DESCRIPTION:PITTSVILLE CHRISTMAS PARADE\nNovember 30\, 2019\n6:00pm\n\nParade Route:  Main Street to Cemetery Avenue to Railroad Avenue\n\nRoad Closures Include:\n               Gumboro Road to Main Street including all side streets\n               Main Street to Cemetery Avenue including all side streets\n               Cemetery Avenue to Railroad Avenue including all side streets\n\nOther Roads Closures include:\n               Perdue Street\n               West Street\n               Truitt Street\n               Parker Street\n               Timmons Street\n               Poplar Neck Road\n\n  \n\n 
URL:https://pittsvillemd.gov/event/christmas-parade/
LOCATION:MD
ATTACH;FMTTYPE=image/jpeg:https://pittsvillemd.gov/wp-content/uploads/2019/11/Pittsville-Christmas-Parade-003.jpg
END:VEVENT
BEGIN:VEVENT
DTSTART;VALUE=DATE:20191011
DTEND;VALUE=DATE:20191027
DTSTAMP:20260420T023840
CREATED:20191009T005927Z
LAST-MODIFIED:20191009T010414Z
UID:1027-1570752000-1572134399@pittsvillemd.gov
SUMMARY:PITTSVILLE HAUNTED TRAIL ON POPLAR NECK RD
DESCRIPTION:Pittsville Haunted Trail on Poplar Neck Rd in Pittsville behind the cemetery. Open every Friday and Saturday Night 7 p.m – 10:30 p.m beginning October 11th and  ending October 26th.\nPrice: $7 Per person\, children under 8 are free.\nAll proceeds benefit Wounded Warrior Project and Forge Youth and Family Academy\n  \n 
URL:https://pittsvillemd.gov/event/pittsville-haunted-trail-poplar-neck-rd/
LOCATION:MD
ATTACH;FMTTYPE=image/jpeg:https://pittsvillemd.gov/wp-content/uploads/2019/10/Haunted-Trail.jpg
END:VEVENT
BEGIN:VEVENT
DTSTART;TZID=UTC:20191010T080000
DTEND;TZID=UTC:20191010T170000
DTSTAMP:20260420T023840
CREATED:20191010T185256Z
LAST-MODIFIED:20191010T185256Z
UID:1032-1570694400-1570726800@pittsvillemd.gov
SUMMARY:Halloween "Trick or Treat" Hours will be from 6-8pm on October 31st.
DESCRIPTION:
URL:https://pittsvillemd.gov/event/halloween-trick-treat-hours-will-6-8pm-october-31st/
LOCATION:MD
END:VEVENT
BEGIN:VEVENT
DTSTART;TZID=UTC:20190907T120000
DTEND;TZID=UTC:20190907T190000
DTSTAMP:20260420T023840
CREATED:20190822T232409Z
LAST-MODIFIED:20190822T232453Z
UID:958-1567857600-1567882800@pittsvillemd.gov
SUMMARY:BOXCAR 40 EVENTS
DESCRIPTION:BOXCAR 40 EVENTS \nSeptember 7\, 2019 – Benefit for the Pittsville Fire Company – 12:00pm to 7:00 pm \n  \nRoadway closures will occur during these events. \nThe Town of Pittsville will be shutting down vehicular traffic for approximately 600 feet on Main Street from Gumboro Road west to the Pittsville Fire Department property line. \n  \nThe Town of Pittsville will also be suspending the ordinance prohibiting the possession of open containers of alcoholic beverages within the confines of that same location during the same timeframe. \n 
URL:https://pittsvillemd.gov/event/boxcar-40-events/
LOCATION:MD
END:VEVENT
BEGIN:VEVENT
DTSTART;TZID=UTC:20190821T180000
DTEND;TZID=UTC:20190821T180000
DTSTAMP:20260420T023840
CREATED:20190801T202233Z
LAST-MODIFIED:20190801T202335Z
UID:906-1566410400-1566410400@pittsvillemd.gov
SUMMARY:Pittsville Library Event
DESCRIPTION:
URL:https://pittsvillemd.gov/event/pittsville-library-event/
LOCATION:MD
ATTACH;FMTTYPE=image/jpeg:https://pittsvillemd.gov/wp-content/uploads/2019/08/Library-1.jpg
END:VEVENT
BEGIN:VEVENT
DTSTART;TZID=UTC:20190727T203000
DTEND;TZID=UTC:20190727T230000
DTSTAMP:20260420T023840
CREATED:20190710T193428Z
LAST-MODIFIED:20190710T193701Z
UID:782-1564259400-1564268400@pittsvillemd.gov
SUMMARY:Movie Night July 27\, 2019
DESCRIPTION:
URL:https://pittsvillemd.gov/event/movie-night-july-27-2019/
LOCATION:MD
END:VEVENT
BEGIN:VEVENT
DTSTART;TZID=UTC:20190622T200000
DTEND;TZID=UTC:20190622T230000
DTSTAMP:20260420T023840
CREATED:20190614T201154Z
LAST-MODIFIED:20190614T201154Z
UID:702-1561233600-1561244400@pittsvillemd.gov
SUMMARY:Free Outdoor Movie Night June 22\, 2019
DESCRIPTION:Free Outdoor Movie Night June 22\, 2019 @ Pittsville Playground & Park
URL:https://pittsvillemd.gov/event/free-outdoor-movie-night-june-22-2019/
LOCATION:MD
ATTACH;FMTTYPE=image/jpeg:https://pittsvillemd.gov/wp-content/uploads/2019/06/Movie-Night-June-22.jpg
END:VEVENT
BEGIN:VEVENT
DTSTART;TZID=UTC:20190507T080000
DTEND;TZID=UTC:20190513T160000
DTSTAMP:20260420T023840
CREATED:20190507T192556Z
LAST-MODIFIED:20190509T222553Z
UID:629-1557216000-1557763200@pittsvillemd.gov
SUMMARY:BOTTLED WATER FOR TOWN RESIDENTS
DESCRIPTION:BOTTLED WATER FOR TOWN RESIDENTS \n  \nPlease be advised that bottled water will be available to residents at the following locations: \nFriday\, May 10th:  Pittsville Town Hall \n7505 Gumboro Road \n8am to 4pm \n  \n  \nSaturday\, May 11th:  Ayres United Methodist Church \n7516 Gumboro Road \n10am to 2pm \n  \nMonday\, May 13th:   Pittsville Town Hall \n7505 Gumboro Road \n8am to 4pm \n  \nThe locations are also accepting bottled water donations. \n  \n  \n 
URL:https://pittsvillemd.gov/event/bottled-water-town-residents/
LOCATION:MD
END:VEVENT
BEGIN:VEVENT
DTSTART;TZID=UTC:20190504T100000
DTEND;TZID=UTC:20190504T160000
DTSTAMP:20260420T023840
CREATED:20190405T230000Z
LAST-MODIFIED:20190405T234253Z
UID:602-1556964000-1556985600@pittsvillemd.gov
SUMMARY:STRAWBERRY FESTIVAL
DESCRIPTION:Please come and visit our Strawberry Festival! We will have fun filled day with arts and crafts\, face painting\, food vendors and much more! \nThose interested in entering the Miss Pittsville Contest or the Miss Shortcake Princess Contest should pick up Entry Forms at the \nPittsville Town Hall located at 7505 Gumboro Road. \n  \n  \n 
URL:https://pittsvillemd.gov/event/strawberry-festival/
LOCATION:MD
ATTACH;FMTTYPE=image/jpeg:https://pittsvillemd.gov/wp-content/uploads/2019/04/Strawberry-Festival-1.jpg
END:VEVENT
BEGIN:VEVENT
DTSTART;TZID=UTC:20190318T080000
DTEND;TZID=UTC:20190427T170000
DTSTAMP:20260420T023840
CREATED:20190319T004831Z
LAST-MODIFIED:20190319T004831Z
UID:565-1552896000-1556384400@pittsvillemd.gov
SUMMARY:BULK PICK UP WILL BE HELD ON SATURDAY\, APRIL 27\, 2019.
DESCRIPTION:NOTICE \nTOWN RESIDENTS \n  \n  \n  \nIT’S THAT TIME AGAIN!!! \nBULK PICK UP DAY \nSATURDAY\,APRIL 27\, 2019. \nPLEASE HAVE YOUR TRASH CURBSIDE \nBY 7:00 A.M. \n  \n ABSOLUTELY NO YARD WASTE\, BUILDING MATERIALS\, PAINT CANS\, TIRES OR ANYTHING HAVING CONTAINED GASOLINE\, OIL OR FREON. \n  \n  \n                                                                                            
URL:https://pittsvillemd.gov/event/bulk-pick-will-held-saturday-april-27-2019/
LOCATION:MD
END:VEVENT
BEGIN:VEVENT
DTSTART;TZID=UTC:20190116T080000
DTEND;TZID=UTC:20190118T170000
DTSTAMP:20260420T023840
CREATED:20190116T181827Z
LAST-MODIFIED:20190116T181906Z
UID:539-1547625600-1547830800@pittsvillemd.gov
SUMMARY:TRASH PICK UP WILL BE ON FRIDAY\, JANUARY 18TH DUE TO CLOSURE ON MONDAY
DESCRIPTION:
URL:https://pittsvillemd.gov/event/trash-pick-will-friday-january-18th-due-closure-monday/
LOCATION:MD
END:VEVENT
BEGIN:VEVENT
DTSTART;TZID=UTC:20190103T080000
DTEND;TZID=UTC:20190110T180000
DTSTAMP:20260420T023840
CREATED:20190104T005443Z
LAST-MODIFIED:20190104T204935Z
UID:525-1546502400-1547143200@pittsvillemd.gov
SUMMARY:TAX DITCH MEETING will be held on January 10\, 2019 at 6pm at the Pittsville Fire Department
DESCRIPTION:
URL:https://pittsvillemd.gov/event/tax-ditch-meeting/
LOCATION:MD
END:VEVENT
BEGIN:VEVENT
DTSTART;TZID=UTC:20181228T080000
DTEND;TZID=UTC:20190104T170000
DTSTAMP:20260420T023840
CREATED:20181228T221701Z
LAST-MODIFIED:20181228T221904Z
UID:521-1545984000-1546621200@pittsvillemd.gov
SUMMARY:TRASH PICK-UP WILL BE ON FRIDAY\, JANUARY 4\, 2019
DESCRIPTION:
URL:https://pittsvillemd.gov/event/trash-pick-will-friday-january-2-2019/
LOCATION:MD
END:VEVENT
BEGIN:VEVENT
DTSTART;TZID=UTC:20181120T080000
DTEND;TZID=UTC:20181215T233000
DTSTAMP:20260420T023840
CREATED:20181120T213856Z
LAST-MODIFIED:20181128T215507Z
UID:494-1542700800-1544916600@pittsvillemd.gov
SUMMARY:COME OUT TO CELEBRATE THE CHRISTMAS SEASON AND THE TOWN'S 150TH ANNIVERSARY
DESCRIPTION:COME OUT TO CELEBRATE THE CHRISTMAS SEASON AND THE TOWN’S 15OTH ANNIVERSARY!!! \n  \nThe Pittsville community is inviting to attend and participate in the following activities to ring in the Christmas season AND celebrate the Town of Pittsville’s 150th Anniversary: \n  \n\nOn December 1\, the Town Commissioners of Pittsville and the Forge Ministry will hold the first Town Christmas Tree Lighting ceremony at the Forge Center on Gumboro Road beginning at 6:00 pm to include a visit with Santa Claus and his elves. Refreshments will be provided\n\n  \n\nThe Wicomico Eastside Chamber of Commerce is sponsoring the Town’s Christmas Parade on December 9\, starting at 5:30 pm. And including a house decorating contest to be judged by members of the Chamber.\n\n  \n\nChristmas Open House to be held at Pittsville Pizza and sponsored by the Town of Pittsville and the Forge Ministry on December 15th from 2-5pm to include pizza\, soda & cake.\n\n  \nCome Out to Celebrate with family\, friends\, and fellowship! \n  \n  \n 
URL:https://pittsvillemd.gov/event/come-celebrate-christmas-season-towns-150th-anniversary/
LOCATION:MD
END:VEVENT
BEGIN:VEVENT
DTSTART;TZID=UTC:20181119T080000
DTEND;TZID=UTC:20181123T170000
DTSTAMP:20260420T023840
CREATED:20181119T212125Z
LAST-MODIFIED:20181119T212125Z
UID:492-1542614400-1542992400@pittsvillemd.gov
SUMMARY:TRASH PICK-UP WILL BE ON FRIDAY\, NOVEMBER 23RD DUE TO THE HOLIDAY.
DESCRIPTION:
URL:https://pittsvillemd.gov/event/trash-pick-will-friday-november-23rd-due-holiday/
LOCATION:MD
END:VEVENT
BEGIN:VEVENT
DTSTART;VALUE=DATE:20181113
DTEND;VALUE=DATE:20181210
DTSTAMP:20260420T023840
CREATED:20181114T005950Z
LAST-MODIFIED:20181114T005950Z
UID:490-1542067200-1544399999@pittsvillemd.gov
SUMMARY:CHRISTMAS PARADE ON DECEMBER 9TH
DESCRIPTION:The Wicomico Eastside Chamber of Commerce will be sponsoring a Christmas Parade on 12/09/18. \nThe parade starts at 5:30pm and will go from Parker Street East on Main Street to Cemetery Avenue \nleft on Cemetery Avenue to Railroad Avenue and left on Railroad Avenue back toward Parker Street. \nThe Chamber of Commerce is inviting everyone along the parade route to participate in decorating \ntheir houses in an expression of “Holiday Cheer”. \nMembers of the Chamber will be traveling the parade route and will pick one house from those participating \nas the best decorated home on the route. \nThe “Winner” will receive a $100.00 Gift Card to Boxcar40!! \n  \n  \n 
URL:https://pittsvillemd.gov/event/christmas-parade-december-9th/
LOCATION:MD
END:VEVENT
BEGIN:VEVENT
DTSTART;VALUE=DATE:20181110
DTEND;VALUE=DATE:20181111
DTSTAMP:20260420T023840
CREATED:20180907T184917Z
LAST-MODIFIED:20180913T182606Z
UID:399-1541808000-1541894399@pittsvillemd.gov
SUMMARY:BULK PICK-UP IS NOVEMBER 10\, 2018
DESCRIPTION:NOTICE\nTOWN RESIDENTS \nIT’S THAT TIME AGAIN!!!\nBULK PICK UP DAY\nSATURDAY\, NOVEMBER 10\, 2018.\nPLEASE HAVE YOUR TRASH CURBSIDE\nBY 7:00 A.M. \n ABSOLUTELY NO YARD WASTE\, BUILDING MATERIALS\, PAINT CANS\, TIRES OR ANYTHING HAVING CONTAINED GASOLINE\, OIL OR FREON.
URL:https://pittsvillemd.gov/event/bulk-pick-up/
LOCATION:MD
END:VEVENT
BEGIN:VEVENT
DTSTART;TZID=UTC:20180921T000000
DTEND;TZID=UTC:20181022T235900
DTSTAMP:20260420T023840
CREATED:20180921T230251Z
LAST-MODIFIED:20180921T232202Z
UID:436-1537488000-1540252740@pittsvillemd.gov
SUMMARY:NATIONAL NIGHT OUT PHOTOS
DESCRIPTION: 
URL:https://pittsvillemd.gov/event/national-night-photos/
LOCATION:MD
ATTACH;FMTTYPE=image/jpeg:https://pittsvillemd.gov/wp-content/uploads/2018/09/DSC_0035.jpg
END:VEVENT
BEGIN:VEVENT
DTSTART;VALUE=DATE:20180823
DTEND;VALUE=DATE:20180901
DTSTAMP:20260420T023840
CREATED:20180823T202706Z
LAST-MODIFIED:20180823T202706Z
UID:393-1534982400-1535759999@pittsvillemd.gov
SUMMARY:FIRE HYDRANT FLUSHING
DESCRIPTION:NOTICE TO RESIDENTS \nTOWN OF PITTSVILLE\nFIRE HYDRANT FLUSHING \nPlease be advised that the Town of Pittsville will be flushing all Fire Hydrants from August 27th thru August 31st. \nWe flush water lines through the use of hydrants\, which is an important preventive maintenance activity.  Although it may appear to waste water\, the process is part of a routine maintenance program necessary to maintain the integrity of the water system allowing us to continue to deliver the highest quality water possible to our customers. \nAs a result of the line flushing process\, residents in the immediate vicinity of the work may experience temporary discoloration of their water.  This discoloration consists primarily of harmless silt and air and does not affect the safety of the water.  If you experience discoloration in your water after crews have been flushing in your neighborhood\, clear the pipes in your home by running your water faucets in your home a few minutes.  We recommend using the tub or outside faucet. \nIf you require additional information\, please contact the Town Office/Water Department. \nThank you.
URL:https://pittsvillemd.gov/event/fire-hydrant-flushing/
LOCATION:MD
END:VEVENT
END:VCALENDAR