BEGIN:VCALENDAR
VERSION:2.0
PRODID:-//Town of Pittsville - ECPv6.15.13//NONSGML v1.0//EN
CALSCALE:GREGORIAN
METHOD:PUBLISH
X-WR-CALNAME:Town of Pittsville
X-ORIGINAL-URL:https://pittsvillemd.gov
X-WR-CALDESC:Events for Town of Pittsville
REFRESH-INTERVAL;VALUE=DURATION:PT1H
X-Robots-Tag:noindex
X-PUBLISHED-TTL:PT1H
BEGIN:VTIMEZONE
TZID:America/New_York
BEGIN:DAYLIGHT
TZOFFSETFROM:-0500
TZOFFSETTO:-0400
TZNAME:EDT
DTSTART:20210314T070000
END:DAYLIGHT
BEGIN:STANDARD
TZOFFSETFROM:-0400
TZOFFSETTO:-0500
TZNAME:EST
DTSTART:20211107T060000
END:STANDARD
BEGIN:DAYLIGHT
TZOFFSETFROM:-0500
TZOFFSETTO:-0400
TZNAME:EDT
DTSTART:20220313T070000
END:DAYLIGHT
BEGIN:STANDARD
TZOFFSETFROM:-0400
TZOFFSETTO:-0500
TZNAME:EST
DTSTART:20221106T060000
END:STANDARD
BEGIN:DAYLIGHT
TZOFFSETFROM:-0500
TZOFFSETTO:-0400
TZNAME:EDT
DTSTART:20230312T070000
END:DAYLIGHT
BEGIN:STANDARD
TZOFFSETFROM:-0400
TZOFFSETTO:-0500
TZNAME:EST
DTSTART:20231105T060000
END:STANDARD
BEGIN:DAYLIGHT
TZOFFSETFROM:-0500
TZOFFSETTO:-0400
TZNAME:EDT
DTSTART:20240310T070000
END:DAYLIGHT
BEGIN:STANDARD
TZOFFSETFROM:-0400
TZOFFSETTO:-0500
TZNAME:EST
DTSTART:20241103T060000
END:STANDARD
END:VTIMEZONE
BEGIN:VTIMEZONE
TZID:UTC
BEGIN:STANDARD
TZOFFSETFROM:+0000
TZOFFSETTO:+0000
TZNAME:UTC
DTSTART:20190101T000000
END:STANDARD
END:VTIMEZONE
BEGIN:VEVENT
DTSTART;TZID=America/New_York:20231031T180000
DTEND;TZID=America/New_York:20231031T200000
DTSTAMP:20260420T004803
CREATED:20231031T011850Z
LAST-MODIFIED:20231031T011851Z
UID:2738-1698775200-1698782400@pittsvillemd.gov
SUMMARY:Trick-Or-Treating 2023
DESCRIPTION:
URL:https://pittsvillemd.gov/event/trick-or-treating-2023/
LOCATION:MD
END:VEVENT
BEGIN:VEVENT
DTSTART;TZID=America/New_York:20231016T190000
DTEND;TZID=America/New_York:20231016T190000
DTSTAMP:20260420T004803
CREATED:20231014T225435Z
LAST-MODIFIED:20231014T225436Z
UID:2697-1697482800-1697482800@pittsvillemd.gov
SUMMARY:Town Council Meeting
DESCRIPTION:
URL:https://pittsvillemd.gov/event/town-council-meeting-11/
LOCATION:Town Hall\, 7505 Gumboro Road\, Pittsville\, MD\, 21850\, United States
END:VEVENT
BEGIN:VEVENT
DTSTART;TZID=America/New_York:20230918T190000
DTEND;TZID=America/New_York:20230918T190000
DTSTAMP:20260420T004803
CREATED:20230914T231658Z
LAST-MODIFIED:20230914T231658Z
UID:2675-1695063600-1695063600@pittsvillemd.gov
SUMMARY:Town Council Meeting
DESCRIPTION:
URL:https://pittsvillemd.gov/event/town-council-meeting-10/
LOCATION:Town Hall\, 7505 Gumboro Road\, Pittsville\, MD\, 21850\, United States
END:VEVENT
BEGIN:VEVENT
DTSTART;TZID=America/New_York:20230821T190000
DTEND;TZID=America/New_York:20230821T190000
DTSTAMP:20260420T004803
CREATED:20230818T171916Z
LAST-MODIFIED:20230818T171916Z
UID:2659-1692644400-1692644400@pittsvillemd.gov
SUMMARY:Town Council Meeting
DESCRIPTION:
URL:https://pittsvillemd.gov/event/town-council-meeting-9/
LOCATION:Town Hall\, 7505 Gumboro Road\, Pittsville\, MD\, 21850\, United States
END:VEVENT
BEGIN:VEVENT
DTSTART;TZID=America/New_York:20230717T190000
DTEND;TZID=America/New_York:20230717T190000
DTSTAMP:20260420T004803
CREATED:20230714T181102Z
LAST-MODIFIED:20230714T181102Z
UID:2627-1689620400-1689620400@pittsvillemd.gov
SUMMARY:Town Council Meeting
DESCRIPTION:
URL:https://pittsvillemd.gov/event/town-council-meeting-8/
LOCATION:Town Hall\, 7505 Gumboro Road\, Pittsville\, MD\, 21850\, United States
END:VEVENT
BEGIN:VEVENT
DTSTART;TZID=America/New_York:20230706T180000
DTEND;TZID=America/New_York:20230706T180000
DTSTAMP:20260420T004803
CREATED:20230622T002525Z
LAST-MODIFIED:20230629T232624Z
UID:2572-1688666400-1688666400@pittsvillemd.gov
SUMMARY:Planning & Zoning Commission Meeting
DESCRIPTION:
URL:https://pittsvillemd.gov/event/planning-zoning-commission-meeting/
LOCATION:Town Hall\, 7505 Gumboro Road\, Pittsville\, MD\, 21850\, United States
END:VEVENT
BEGIN:VEVENT
DTSTART;TZID=America/New_York:20230621T173000
DTEND;TZID=America/New_York:20230621T173000
DTSTAMP:20260420T004803
CREATED:20230616T023129Z
LAST-MODIFIED:20230616T023129Z
UID:2563-1687368600-1687368600@pittsvillemd.gov
SUMMARY:Pittsville EDC Monthly Meeting
DESCRIPTION:
URL:https://pittsvillemd.gov/event/pittsville-edc-monthly-meeting/
LOCATION:Town Hall\, 7505 Gumboro Road\, Pittsville\, MD\, 21850\, United States
END:VEVENT
BEGIN:VEVENT
DTSTART;TZID=America/New_York:20230620T190000
DTEND;TZID=America/New_York:20230620T190000
DTSTAMP:20260420T004803
CREATED:20230616T022948Z
LAST-MODIFIED:20230616T022948Z
UID:2561-1687287600-1687287600@pittsvillemd.gov
SUMMARY:Town Council Meeting
DESCRIPTION:
URL:https://pittsvillemd.gov/event/town-council-meeting-7/
LOCATION:Town Hall\, 7505 Gumboro Road\, Pittsville\, MD\, 21850\, United States
END:VEVENT
BEGIN:VEVENT
DTSTART;TZID=America/New_York:20230620T190000
DTEND;TZID=America/New_York:20230620T190000
DTSTAMP:20260420T004803
CREATED:20230616T022823Z
LAST-MODIFIED:20230616T022823Z
UID:2559-1687287600-1687287600@pittsvillemd.gov
SUMMARY:Public Hearing: FY 24 Budget
DESCRIPTION:
URL:https://pittsvillemd.gov/event/public-hearing-fy-24-budget/
LOCATION:Town Hall\, 7505 Gumboro Road\, Pittsville\, MD\, 21850\, United States
END:VEVENT
BEGIN:VEVENT
DTSTART;TZID=America/New_York:20230522T190000
DTEND;TZID=America/New_York:20230522T190000
DTSTAMP:20260420T004803
CREATED:20230518T011412Z
LAST-MODIFIED:20230518T011412Z
UID:2531-1684782000-1684782000@pittsvillemd.gov
SUMMARY:Town Council Meeting
DESCRIPTION:Please be advised that the next town meeting will be on Monday\, May 22\, 2023\, commencing at 7:00 pm at Town Hall.
URL:https://pittsvillemd.gov/event/town-council-meeting-6/
LOCATION:Town Hall\, 7505 Gumboro Road\, Pittsville\, MD\, 21850\, United States
END:VEVENT
BEGIN:VEVENT
DTSTART;TZID=America/New_York:20230518T190000
DTEND;TZID=America/New_York:20230518T190000
DTSTAMP:20260420T004803
CREATED:20230518T000534Z
LAST-MODIFIED:20230518T000534Z
UID:2529-1684436400-1684436400@pittsvillemd.gov
SUMMARY:FY24 Budget Work Session
DESCRIPTION:The budget work session is specifically for the Town Commissioners to discuss and review the draft Town Administration budget and normally\, unless approved by the Town Commission President\, public comments are not solicited.
URL:https://pittsvillemd.gov/event/fy24-budget-work-session/
LOCATION:Town Hall\, 7505 Gumboro Road\, Pittsville\, MD\, 21850\, United States
END:VEVENT
BEGIN:VEVENT
DTSTART;TZID=America/New_York:20230420T060000
DTEND;TZID=America/New_York:20230420T060000
DTSTAMP:20260420T004803
CREATED:20230317T121715Z
LAST-MODIFIED:20230317T121715Z
UID:2463-1681970400-1681970400@pittsvillemd.gov
SUMMARY:Bulk Pickup: Spring 2023
DESCRIPTION:BULK PICK UP DAY: Thursday\, April 20\, 2023\nPLEASE HAVE YOUR TRASH CURBSIDE BY 6:00 A.M. \nBULK ITEMS: CURBSIDE \n• Cardboard boxes\n• Furniture and appliances\, picnic table\, chairs and benches are considered to be furniture\, mattresses\, box springs\, all can be set out and we will take either curbside\n• Leaves\, placed in bags\n• Any household items\, clothing\, books\, toys\, need to be bagged\, but under 50 pounds so our guys can lift them\n• Bikes\, trikes \nWILL NOT TAKE: \n• No construction debris\, cinder block\, bricks\n• Boats\n• Computers\, tires\, paint\, chemicals\, liquids\, waste\, or other hazardous materials\, we cannot take them.\n• No animal wastes\n• No tires\, oil\, paint\n• Tear down fencing around yard\n• Tear down of sheds.\n• Automobiles\, parts\, trans and engines\n• No motorcycles\n• We do not take whole trees cut down\, stumps
URL:https://pittsvillemd.gov/event/bulk-pickup-spring-2023/
LOCATION:MD
END:VEVENT
BEGIN:VEVENT
DTSTART;TZID=America/New_York:20230417T190000
DTEND;TZID=America/New_York:20230417T190000
DTSTAMP:20260420T004803
CREATED:20230413T152622Z
LAST-MODIFIED:20230413T152622Z
UID:2498-1681758000-1681758000@pittsvillemd.gov
SUMMARY:Town Council Meeting
DESCRIPTION:Please be advised that the next town meeting will be on Monday\, April 17\, 2023\, commencing at 7:00 pm at Town Hall.
URL:https://pittsvillemd.gov/event/town-council-meeting-5/
LOCATION:Town Hall\, 7505 Gumboro Road\, Pittsville\, MD\, 21850\, United States
END:VEVENT
BEGIN:VEVENT
DTSTART;TZID=America/New_York:20230320T190000
DTEND;TZID=America/New_York:20230320T190000
DTSTAMP:20260420T004803
CREATED:20230317T142024Z
LAST-MODIFIED:20230317T142024Z
UID:2474-1679338800-1679338800@pittsvillemd.gov
SUMMARY:Town Council Meeting
DESCRIPTION:Please be advised that the next town meeting will be on Monday\, March 20\, 2023\, commencing at 7:00 pm at Town Hall.
URL:https://pittsvillemd.gov/event/town-council-meeting-4/
LOCATION:Town Hall\, 7505 Gumboro Road\, Pittsville\, MD\, 21850\, United States
END:VEVENT
BEGIN:VEVENT
DTSTART;TZID=America/New_York:20230309T180000
DTEND;TZID=America/New_York:20230309T180000
DTSTAMP:20260420T004803
CREATED:20230303T214235Z
LAST-MODIFIED:20230303T214235Z
UID:2451-1678384800-1678384800@pittsvillemd.gov
SUMMARY:Board of Zoning Appeals: Public Hearing
DESCRIPTION:BOARD OF ZONING APPEALS\nCase # 2022-02 \nThe Pittsville Board of Zoning Appeals will hold a public hearing on a “special exception use” application from Ashley Jones of 34605 Casher Wells Road\, Pittsville Maryland requesting to house horses on her property for personal use. The public hearing will be held on March 9\, 2023\, commencing at 6:00 pm at the Town Hall. \nThe property is posted with a public notice and persons wishing to comment should attend the public hearing to be heard. Any questions please contact the Town Hall at 410-835-8872.
URL:https://pittsvillemd.gov/event/board-of-zoning-appeals-public-hearing/
LOCATION:Town Hall\, 7505 Gumboro Road\, Pittsville\, MD\, 21850\, United States
END:VEVENT
BEGIN:VEVENT
DTSTART;TZID=America/New_York:20230221T190000
DTEND;TZID=America/New_York:20230221T190000
DTSTAMP:20260420T004803
CREATED:20230210T151705Z
LAST-MODIFIED:20230210T151705Z
UID:2367-1677006000-1677006000@pittsvillemd.gov
SUMMARY:Town Council Meeting
DESCRIPTION:Please be advised that the next town meeting will be on TUESDAY\, February 21\, 2023\, commencing at 7:00 pm at Town Hall due to the Presidents Day holiday on Monday\, February 20.
URL:https://pittsvillemd.gov/event/town-council-meeting-3/
LOCATION:Town Hall\, 7505 Gumboro Road\, Pittsville\, MD\, 21850\, United States
END:VEVENT
BEGIN:VEVENT
DTSTART;TZID=America/New_York:20221219T193000
DTEND;TZID=America/New_York:20221219T193000
DTSTAMP:20260420T004803
CREATED:20221212T222549Z
LAST-MODIFIED:20221212T222550Z
UID:2295-1671478200-1671478200@pittsvillemd.gov
SUMMARY:Town Council Meeting
DESCRIPTION:
URL:https://pittsvillemd.gov/event/town-council-meeting-2/
LOCATION:Town Hall\, 7505 Gumboro Road\, Pittsville\, MD\, 21850\, United States
END:VEVENT
BEGIN:VEVENT
DTSTART;TZID=America/New_York:20221121T193000
DTEND;TZID=America/New_York:20221121T193000
DTSTAMP:20260420T004803
CREATED:20221118T183824Z
LAST-MODIFIED:20221118T183824Z
UID:2276-1669059000-1669059000@pittsvillemd.gov
SUMMARY:Town Council Meeting
DESCRIPTION:
URL:https://pittsvillemd.gov/event/town-council-meeting/
LOCATION:Town Hall\, 7505 Gumboro Road\, Pittsville\, MD\, 21850\, United States
END:VEVENT
BEGIN:VEVENT
DTSTART;TZID=America/New_York:20221117T060000
DTEND;TZID=America/New_York:20221117T060000
DTSTAMP:20260420T004803
CREATED:20221107T184822Z
LAST-MODIFIED:20221107T184822Z
UID:2267-1668664800-1668664800@pittsvillemd.gov
SUMMARY:Bulk Pickup
DESCRIPTION:PLEASE HAVE YOUR TRASH CURBSIDE BY 6:00 A.M. \nBULK ITEMS: CURBSIDE\n• Cardboard boxes\n• Furniture and appliances\, picnic table\, chairs and benches are considered to be furniture\, mattresses\, box springs\, all can be set out and we will take either curbside\n• Leaves\, placed in bags\n• Any household items\, clothing\, books\, toys\, need to be bagged\, but under 50 pounds so our guys can lift them\n• Bikes\, trikes \nWILL NOT TAKE:\n• No construction debris\, cinder block\, bricks\n• Boats\n• Computers\, tires\, paint\, chemicals\, liquids\, waste\, or other hazardous materials\, we cannot take them.\n• No animal wastes\n• No tires\, oil\, paint\n• Tear down fencing around yard\n• Tear down of sheds.\n• Automobiles\, parts\, trans and engines\n• No motorcycles\n• We do not take whole trees cut down\, stumps
URL:https://pittsvillemd.gov/event/bulk-pickup/
LOCATION:MD
END:VEVENT
BEGIN:VEVENT
DTSTART;TZID=America/New_York:20221031T180000
DTEND;TZID=America/New_York:20221031T200000
DTSTAMP:20260420T004803
CREATED:20221020T014041Z
LAST-MODIFIED:20221020T015945Z
UID:2250-1667239200-1667246400@pittsvillemd.gov
SUMMARY:Trick-Or-Treating 2022
DESCRIPTION:
URL:https://pittsvillemd.gov/event/trick-or-treating-2022/
LOCATION:MD
END:VEVENT
BEGIN:VEVENT
DTSTART;TZID=America/New_York:20220813T100000
DTEND;TZID=America/New_York:20220813T100000
DTSTAMP:20260420T004803
CREATED:20220808T233044Z
LAST-MODIFIED:20220808T233044Z
UID:2213-1660384800-1660384800@pittsvillemd.gov
SUMMARY:Dedication Ceremony (Corporal Glenn Hilliard Way)
DESCRIPTION:The Pittsville Town Commissioners invite the public to attend the dedication ceremony on Saturday August 13th at 10am\, at the Pittsville Fire Station on the corner of Main Street and Gumboro Road. \nThe dedication will recognize Main Street as Corporal Glenn Hilliard Way to honor Corporal Hilliard for his service and sacrifice in the line of duty.
URL:https://pittsvillemd.gov/event/dedication-ceremony-corporal-glenn-hilliard-way/
LOCATION:Pittsville Volunteer Fire Department\, 7442 Gumboro Road\, Pittsville\, MD\, 21850\, United States
ATTACH;FMTTYPE=image/jpeg:https://pittsvillemd.gov/wp-content/uploads/2022/08/image003.jpg
END:VEVENT
BEGIN:VEVENT
DTSTART;TZID=America/New_York:20220615T080000
DTEND;TZID=America/New_York:20220618T170000
DTSTAMP:20260420T004803
CREATED:20220615T152937Z
LAST-MODIFIED:20220615T153001Z
UID:2118-1655280000-1655571600@pittsvillemd.gov
SUMMARY:PITTSVILLE STRAWBERRY FESTIVAL
DESCRIPTION:
URL:https://pittsvillemd.gov/event/pittsville-strawberry-festival-2/
LOCATION:MD
END:VEVENT
BEGIN:VEVENT
DTSTART;TZID=America/New_York:20220614T000000
DTEND;TZID=America/New_York:20220618T235900
DTSTAMP:20260420T004803
CREATED:20220614T162827Z
LAST-MODIFIED:20220615T152706Z
UID:2107-1655164800-1655596740@pittsvillemd.gov
SUMMARY:Pittsville Strawberry Festival
DESCRIPTION:
URL:https://pittsvillemd.gov/event/pittsville-strawberry-festival/
LOCATION:MD
ATTACH;FMTTYPE=image/jpeg:https://pittsvillemd.gov/wp-content/uploads/2022/06/Strawberry-Festival1024_1-1.jpg
END:VEVENT
BEGIN:VEVENT
DTSTART;TZID=America/New_York:20220516T000000
DTEND;TZID=America/New_York:20220517T235900
DTSTAMP:20260420T004803
CREATED:20220512T193940Z
LAST-MODIFIED:20220516T175749Z
UID:1983-1652659200-1652831940@pittsvillemd.gov
SUMMARY:PINE STREET RESURFACING
DESCRIPTION:**NOTICE**  PINE STREET RESURFACING \n  \nPLEASE BE ADVISED THE RESURFACING WORK ON PINE STREET WILL BEGIN \nON FRIDAY\, MAY13TH (weather permitting). \nPINE STREET WILL BE CLOSED ON MONDAY\, MAY 16TH AND TUESDAY\, MAY17th \n FROM 6AM – 6PM. \n(Local Traffic Only Allowed) \nWE APOLOGIZE FOR ANY INCONVENIENCE THIS MAY CAUSE. \n 
URL:https://pittsvillemd.gov/event/pine-street-resurfacing/
LOCATION:MD
END:VEVENT
BEGIN:VEVENT
DTSTART;TZID=America/New_York:20220513T080000
DTEND;TZID=America/New_York:20220513T170000
DTSTAMP:20260420T004803
CREATED:20220513T135438Z
LAST-MODIFIED:20220513T135438Z
UID:1992-1652428800-1652461200@pittsvillemd.gov
SUMMARY:**NOTICE**  Pine Street Resurfacing
DESCRIPTION:**NOTICE**  PINE STREET RESURFACING\n \nPLEASE BE ADVISED THE RESURFACING WORK ON PINE STREET WILL BEGIN\nON FRIDAY\, MAY13TH (weather permitting).\nPINE STREET WILL BE CLOSED ON MONDAY\, MAY 16TH AND TUESDAY\, MAY17th\n FROM 6AM – 6PM.\n(Local Traffic Only Allowed)\n\nWE APOLOGIZE FOR ANY INCONVENIENCE THIS MAY CAUSE.\n 
URL:https://pittsvillemd.gov/event/notice-pine-street-resurfacing/
LOCATION:MD
END:VEVENT
BEGIN:VEVENT
DTSTART;VALUE=DATE:20220421
DTEND;VALUE=DATE:20220422
DTSTAMP:20260420T004803
CREATED:20220309T173455Z
LAST-MODIFIED:20220315T151121Z
UID:1925-1650499200-1650585599@pittsvillemd.gov
SUMMARY:BULK PICK UP DAY WILL BE HELD ON THURSDAY\, APRIL 21\, 2022
DESCRIPTION:NOTICE\nTOWN RESIDENTS\nIT’S THAT TIME AGAIN!!!\nBULK PICK UP DAY\nThursday\, April 21\, 2022.\nPLEASE HAVE YOUR TRASH CURBSIDE\nBY 6:00 A.M.\n \nBULK ITEMS: CURBSIDE\n\n\nCardboard boxes\n\n\nFurniture and appliances\, picnic table\, chairs and benches are considered to be furniture\, mattresses\, box springs\, all can be set out and we will take either curbside\n\n\nLeaves\, placed in bags\n\n\nAny household items\, clothing\, books\, toys\, need to be bagged\, but under 50 pounds so our guys can lift them\n\n\nBikes\, trikes\n\n\n\nWILL NOT TAKE:\n\n\nNo construction debris\, cinder block\, bricks\n\n\nBoats\n\n\nComputers\, tires\, paint\, chemicals\, liquids\, waste or other hazardous materials\, we cannot take them.\n\n\nNo animal wastes\n\n\nNo tires\, oil\, paint\n\n\nTear down fencing around yard\n\n\nTear down of sheds.\n\n\nAutomobiles\, parts\, trans and engines\n\n\nNo motorcycles\n\n\nWe do not take whole trees cut down\, stumps\n\n\n\n 
URL:https://pittsvillemd.gov/event/bulk-pick-up-day-will-be-held-on-thursday-april-21-2022/
LOCATION:MD
END:VEVENT
BEGIN:VEVENT
DTSTART;TZID=UTC:20211030T180000
DTEND;TZID=UTC:20211030T200000
DTSTAMP:20260420T004803
CREATED:20211019T183711Z
LAST-MODIFIED:20211019T184345Z
UID:1659-1635616800-1635624000@pittsvillemd.gov
SUMMARY:"TRUNK OR TREAT"
DESCRIPTION:
URL:https://pittsvillemd.gov/event/trunk-or-treat/
LOCATION:MD
ATTACH;FMTTYPE=image/png:https://pittsvillemd.gov/wp-content/uploads/2021/10/Trunk-or-Treat.png
END:VEVENT
BEGIN:VEVENT
DTSTART;TZID=UTC:20210804T170000
DTEND;TZID=UTC:20210804T200000
DTSTAMP:20260420T004803
CREATED:20210726T215530Z
LAST-MODIFIED:20210726T215800Z
UID:1599-1628096400-1628107200@pittsvillemd.gov
SUMMARY:NATIONAL NIGHT OUT August 4\, 2021
DESCRIPTION:NATIONAL NIGHT OUT\nAugust 4\, 2021\n5:00 pm-8:00 pm\n\nThe Pittsville Town Commissioners and the Pittsville Police Department announce the Town’s annual “National Night Out” program and event to be held on Wednesday\, August 4\, 2021 commencing at 5:00 pm at the town park and pavilion located on Pearl Street.\n\nPublic Safety activities\, refreshments\, and entertainment to be provided. All are invited to come out and support our “first responders”.
URL:https://pittsvillemd.gov/event/national-night-out/
LOCATION:MD
END:VEVENT
BEGIN:VEVENT
DTSTART;TZID=UTC:20210304T080000
DTEND;TZID=UTC:20210415T170000
DTSTAMP:20260420T004803
CREATED:20210304T230256Z
LAST-MODIFIED:20210304T230306Z
UID:1502-1614844800-1618506000@pittsvillemd.gov
SUMMARY:"BULK PICK UP DAY" will be held on Thursday\, April 15\, 2021
DESCRIPTION:NOTICE \nTOWN RESIDENTS \n\nIT’S THAT TIME AGAIN!!! \nBULK PICK UP DAY \nThursday\, April 15\, 2021. \nPLEASE HAVE YOUR TRASH CURBSIDE \nBY 6:00 A.M. \nBULK ITEMS: CURBSIDE \n\nCardboard boxes.\nFurniture and appliances\, picnic table\, chairs and benches are considered to be furniture\, mattresses\, box springs\, all can be set out and we will take either curbside.\nLeaves\, placed in bags\nAny household items\, clothing\, books\, toys\, need to be bagged\, but under 50 pounds so our guys can lift them.\nBikes\, trikes\n\n  \nWILL NOT TAKE: \n\nNo construction debris\, cinders block\, bricks\nBoats\nComputers\, tires\, paint\, chemicals\, liquids\, waste or other hazardous materials\, we cannot take them\nNo animal waste\nNo tires\, oil\, paint\nTear down fencing around yard\nTear down of sheds.\nAutomobiles\, parts\, trans and engines\nNo motorcycles\nBoats\nWe do not take whole trees cut down\, stumps\n\n  \n 
URL:https://pittsvillemd.gov/event/bulk-pick-day-will-held-thursday-april-15-2021/
LOCATION:MD
END:VEVENT
BEGIN:VEVENT
DTSTART;TZID=UTC:20201118T080000
DTEND;TZID=UTC:20201213T170000
DTSTAMP:20260420T004803
CREATED:20201118T222025Z
LAST-MODIFIED:20201118T222025Z
UID:1415-1605686400-1607878800@pittsvillemd.gov
SUMMARY:**SANTA RIDE THRU TOWN** will be held by the Pittsville Volunteer Fire Company on December 13th from 12:00pm to 5:00pm
DESCRIPTION:
URL:https://pittsvillemd.gov/event/santa-ride-thru-town-will-held-pittsville-volunteer-fire-company-december-13th-1200pm-500pm/
LOCATION:MD
END:VEVENT
END:VCALENDAR