BEGIN:VCALENDAR
VERSION:2.0
PRODID:-//Town of Pittsville - ECPv6.15.13//NONSGML v1.0//EN
CALSCALE:GREGORIAN
METHOD:PUBLISH
X-WR-CALNAME:Town of Pittsville
X-ORIGINAL-URL:https://pittsvillemd.gov
X-WR-CALDESC:Events for Town of Pittsville
REFRESH-INTERVAL;VALUE=DURATION:PT1H
X-Robots-Tag:noindex
X-PUBLISHED-TTL:PT1H
BEGIN:VTIMEZONE
TZID:America/New_York
BEGIN:DAYLIGHT
TZOFFSETFROM:-0500
TZOFFSETTO:-0400
TZNAME:EDT
DTSTART:20230312T070000
END:DAYLIGHT
BEGIN:STANDARD
TZOFFSETFROM:-0400
TZOFFSETTO:-0500
TZNAME:EST
DTSTART:20231105T060000
END:STANDARD
BEGIN:DAYLIGHT
TZOFFSETFROM:-0500
TZOFFSETTO:-0400
TZNAME:EDT
DTSTART:20240310T070000
END:DAYLIGHT
BEGIN:STANDARD
TZOFFSETFROM:-0400
TZOFFSETTO:-0500
TZNAME:EST
DTSTART:20241103T060000
END:STANDARD
BEGIN:DAYLIGHT
TZOFFSETFROM:-0500
TZOFFSETTO:-0400
TZNAME:EDT
DTSTART:20250309T070000
END:DAYLIGHT
BEGIN:STANDARD
TZOFFSETFROM:-0400
TZOFFSETTO:-0500
TZNAME:EST
DTSTART:20251102T060000
END:STANDARD
BEGIN:DAYLIGHT
TZOFFSETFROM:-0500
TZOFFSETTO:-0400
TZNAME:EDT
DTSTART:20260308T070000
END:DAYLIGHT
BEGIN:STANDARD
TZOFFSETFROM:-0400
TZOFFSETTO:-0500
TZNAME:EST
DTSTART:20261101T060000
END:STANDARD
END:VTIMEZONE
BEGIN:VEVENT
DTSTART;TZID=America/New_York:20250818T190000
DTEND;TZID=America/New_York:20250818T190000
DTSTAMP:20260419T112520
CREATED:20250815T184026Z
LAST-MODIFIED:20250815T184026Z
UID:30119-1755543600-1755543600@pittsvillemd.gov
SUMMARY:Town Council Meeting
DESCRIPTION:
URL:https://pittsvillemd.gov/event/town-council-meeting-32/
LOCATION:Town Hall\, 7505 Gumboro Road\, Pittsville\, MD\, 21850\, United States
END:VEVENT
BEGIN:VEVENT
DTSTART;TZID=America/New_York:20250721T190000
DTEND;TZID=America/New_York:20250721T190000
DTSTAMP:20260419T112520
CREATED:20250718T163003Z
LAST-MODIFIED:20250718T163004Z
UID:30019-1753124400-1753124400@pittsvillemd.gov
SUMMARY:Town Council Meeting
DESCRIPTION:
URL:https://pittsvillemd.gov/event/town-council-meeting-31/
LOCATION:Town Hall\, 7505 Gumboro Road\, Pittsville\, MD\, 21850\, United States
END:VEVENT
BEGIN:VEVENT
DTSTART;TZID=America/New_York:20250623T190000
DTEND;TZID=America/New_York:20250623T190000
DTSTAMP:20260419T112520
CREATED:20250619T205519Z
LAST-MODIFIED:20250619T205519Z
UID:29954-1750705200-1750705200@pittsvillemd.gov
SUMMARY:Town Council Meeting
DESCRIPTION:
URL:https://pittsvillemd.gov/event/town-council-meeting-30/
LOCATION:Town Hall\, 7505 Gumboro Road\, Pittsville\, MD\, 21850\, United States
END:VEVENT
BEGIN:VEVENT
DTSTART;TZID=America/New_York:20250623T190000
DTEND;TZID=America/New_York:20250623T190000
DTSTAMP:20260419T112520
CREATED:20250619T204603Z
LAST-MODIFIED:20250619T204603Z
UID:29951-1750705200-1750705200@pittsvillemd.gov
SUMMARY:Public Hearing: FY 26 Municipal Operating Budget
DESCRIPTION:For additional information: View Public Notice
URL:https://pittsvillemd.gov/event/public-hearing-fy-26-municipal-operating-budget/
LOCATION:Town Hall\, 7505 Gumboro Road\, Pittsville\, MD\, 21850\, United States
END:VEVENT
BEGIN:VEVENT
DTSTART;TZID=America/New_York:20250604T170000
DTEND;TZID=America/New_York:20250604T170000
DTSTAMP:20260419T112520
CREATED:20250604T001523Z
LAST-MODIFIED:20250604T001523Z
UID:29890-1749056400-1749056400@pittsvillemd.gov
SUMMARY:Strawberry Festival Planning Meeting
DESCRIPTION:Planning meeting to discuss the upcoming 2025 Pittsville Strawberry Festival. This meeting is open to the public and anyone who would like to assist with the festival is invited to attend. \nPublic meeting room at Town Hall. 7505 Gumboro Road\, Pittsville\, MD 21850. \nQuestions? Please email events@pittsvillemd.gov or call 410-835-8872.
URL:https://pittsvillemd.gov/event/strawberry-festival-planning-meeting-3/
LOCATION:Town Hall\, 7505 Gumboro Road\, Pittsville\, MD\, 21850\, United States
END:VEVENT
BEGIN:VEVENT
DTSTART;TZID=America/New_York:20250519T190000
DTEND;TZID=America/New_York:20250519T190000
DTSTAMP:20260419T112520
CREATED:20250516T173730Z
LAST-MODIFIED:20250516T173730Z
UID:29738-1747681200-1747681200@pittsvillemd.gov
SUMMARY:Town Council Meeting
DESCRIPTION:
URL:https://pittsvillemd.gov/event/town-council-meeting-29/
LOCATION:Town Hall\, 7505 Gumboro Road\, Pittsville\, MD\, 21850\, United States
END:VEVENT
BEGIN:VEVENT
DTSTART;TZID=America/New_York:20250512T170000
DTEND;TZID=America/New_York:20250512T170000
DTSTAMP:20260419T112520
CREATED:20250508T160023Z
LAST-MODIFIED:20250508T160023Z
UID:26903-1747069200-1747069200@pittsvillemd.gov
SUMMARY:Strawberry Festival Planning Meeting
DESCRIPTION:Planning meeting to discuss the upcoming 2025 Pittsville Strawberry Festival. This meeting is open to the public and anyone who would like to assist with the festival is invited to attend. \nPublic meeting room at Town Hall. 7505 Gumboro Road\, Pittsville\, MD 21850. \nQuestions? Please email events@pittsvillemd.gov or call 410-835-8872.
URL:https://pittsvillemd.gov/event/strawberry-festival-planning-meeting-2/
LOCATION:Town Hall\, 7505 Gumboro Road\, Pittsville\, MD\, 21850\, United States
END:VEVENT
BEGIN:VEVENT
DTSTART;TZID=America/New_York:20250421T190000
DTEND;TZID=America/New_York:20250421T190000
DTSTAMP:20260419T112520
CREATED:20250419T162857Z
LAST-MODIFIED:20250419T162857Z
UID:26848-1745262000-1745262000@pittsvillemd.gov
SUMMARY:Town Council Meeting
DESCRIPTION:
URL:https://pittsvillemd.gov/event/town-council-meeting-28/
LOCATION:Town Hall\, 7505 Gumboro Road\, Pittsville\, MD\, 21850\, United States
END:VEVENT
BEGIN:VEVENT
DTSTART;TZID=America/New_York:20250417T060000
DTEND;TZID=America/New_York:20250417T060000
DTSTAMP:20260419T112520
CREATED:20250307T014621Z
LAST-MODIFIED:20250307T014621Z
UID:26283-1744869600-1744869600@pittsvillemd.gov
SUMMARY:Bulk Pickup: Spring 2025
DESCRIPTION:BULK PICK-UP DAY: Thursday\, April 17\, 2025\nPLEASE HAVE YOUR TRASH CURBSIDE BY 6:00 A.M. \nWILL TAKE: \n• Appliances (except those containing refrigerant)\n• Cardboard boxes\n• Furniture\, picnic tables\, chairs\, and benches\n• Mattresses and box springs\n• Household items: clothing\, books\, toys\, etc. (need to be bagged\, but under 50 pounds each)\n• Bikes and trikes\n• Leaves (placed in bags) \nWILL NOT TAKE: \n• Appliances (containing refrigerant)\n• Construction debris: lumber\, cinder block\, bricks\, etc.\n• Boats\n• Computers\n• Tires\n• Paint\, chemicals\, liquid waste\, gasoline\, oil\, or other hazardous materials\n• Animal wastes\n• Tear down of yard fencing\n• Tear down of sheds\n• Automobiles\, parts\, transmissions or engines\n• No motorcycles\n• Cut down trees or stumps
URL:https://pittsvillemd.gov/event/bulk-pickup-spring-2025/
END:VEVENT
BEGIN:VEVENT
DTSTART;TZID=America/New_York:20250324T170000
DTEND;TZID=America/New_York:20250324T170000
DTSTAMP:20260419T112520
CREATED:20250321T174837Z
LAST-MODIFIED:20250321T174837Z
UID:26297-1742835600-1742835600@pittsvillemd.gov
SUMMARY:Strawberry Festival Planning Meeting
DESCRIPTION:Planning meeting to discuss the upcoming 2025 Pittsville Strawberry Festival. This meeting is open to the public and anyone who would like to assist with the festival is invited to attend. \nPublic meeting room at Town Hall. 7505 Gumboro Road\, Pittsville\, MD 21850. \nQuestions? Please email events@pittsvillemd.gov or call 410-835-8872.
URL:https://pittsvillemd.gov/event/strawberry-festival-planning-meeting/
LOCATION:Town Hall\, 7505 Gumboro Road\, Pittsville\, MD\, 21850\, United States
END:VEVENT
BEGIN:VEVENT
DTSTART;TZID=America/New_York:20250317T190000
DTEND;TZID=America/New_York:20250317T190000
DTSTAMP:20260419T112520
CREATED:20250315T191538Z
LAST-MODIFIED:20250315T191538Z
UID:26288-1742238000-1742238000@pittsvillemd.gov
SUMMARY:Town Council Meeting
DESCRIPTION:
URL:https://pittsvillemd.gov/event/town-council-meeting-27/
LOCATION:Town Hall\, 7505 Gumboro Road\, Pittsville\, MD\, 21850\, United States
END:VEVENT
BEGIN:VEVENT
DTSTART;TZID=America/New_York:20250224T190000
DTEND;TZID=America/New_York:20250224T190000
DTSTAMP:20260419T112520
CREATED:20250222T141612Z
LAST-MODIFIED:20250222T141612Z
UID:26256-1740423600-1740423600@pittsvillemd.gov
SUMMARY:Town Council Meeting
DESCRIPTION:
URL:https://pittsvillemd.gov/event/town-council-meeting-26/
LOCATION:Town Hall\, 7505 Gumboro Road\, Pittsville\, MD\, 21850\, United States
END:VEVENT
BEGIN:VEVENT
DTSTART;TZID=America/New_York:20250127T183000
DTEND;TZID=America/New_York:20250127T183000
DTSTAMP:20260419T112520
CREATED:20250125T173947Z
LAST-MODIFIED:20250125T173947Z
UID:26174-1738002600-1738002600@pittsvillemd.gov
SUMMARY:Town Council Meeting & Public Forum
DESCRIPTION:Please be advised that the next town council meeting will be on Monday\, January 27\, 2025\, commencing at 7:00 pm at Town Hall. \nPrior to the regular meeting\, there will be a citizen’s public forum to explain and discuss the “Water Service Line Inventory” as required by the EPA/MDE. The public forum starts at 6:30 pm.
URL:https://pittsvillemd.gov/event/town-council-meeting-public-forum/
LOCATION:Town Hall\, 7505 Gumboro Road\, Pittsville\, MD\, 21850\, United States
END:VEVENT
BEGIN:VEVENT
DTSTART;TZID=America/New_York:20241221T120000
DTEND;TZID=America/New_York:20241221T140000
DTSTAMP:20260419T112520
CREATED:20241210T110820Z
LAST-MODIFIED:20241210T112850Z
UID:26051-1734782400-1734789600@pittsvillemd.gov
SUMMARY:Hotdogs with Santa 2024
DESCRIPTION:Ho\, ho\, hotdogs! \nSanta Claus will be returning to the Town of Pittsville on Saturday\, December 21st from 12:00pm to 2:00pm for “Hotdogs with Santa”. Come visit Santa and his helpers\, share your Christmas wishes\, take some great photos\, and enjoy a free hotdog lunch! All are invited to attend. Santa looks forward to seeing you there!
URL:https://pittsvillemd.gov/event/hotdogs-with-santa-2024/
LOCATION:Town Hall\, 7505 Gumboro Road\, Pittsville\, MD\, 21850\, United States
END:VEVENT
BEGIN:VEVENT
DTSTART;TZID=America/New_York:20241216T190000
DTEND;TZID=America/New_York:20241216T190000
DTSTAMP:20260419T112520
CREATED:20241213T161559Z
LAST-MODIFIED:20241213T161559Z
UID:26064-1734375600-1734375600@pittsvillemd.gov
SUMMARY:Town Council Meeting
DESCRIPTION:
URL:https://pittsvillemd.gov/event/town-council-meeting-25/
LOCATION:Town Hall\, 7505 Gumboro Road\, Pittsville\, MD\, 21850\, United States
END:VEVENT
BEGIN:VEVENT
DTSTART;TZID=America/New_York:20241121T060000
DTEND;TZID=America/New_York:20241121T060000
DTSTAMP:20260419T112520
CREATED:20241114T172922Z
LAST-MODIFIED:20241114T172922Z
UID:25745-1732168800-1732168800@pittsvillemd.gov
SUMMARY:Bulk Pickup: Fall 2024
DESCRIPTION:BULK PICK-UP DAY: Thursday\, November 21\, 2024\nPLEASE HAVE YOUR TRASH CURBSIDE BY 6:00 A.M. \nWILL TAKE: \n• Appliances (except those containing refrigerant)\n• Cardboard boxes\n• Furniture\, picnic tables\, chairs\, and benches\n• Mattresses and box springs\n• Household items: clothing\, books\, toys\, etc. (need to be bagged\, but under 50 pounds each)\n• Bikes and trikes\n• Leaves (placed in bags) \nWILL NOT TAKE: \n• Appliances (containing refrigerant)\n• Construction debris: lumber\, cinder block\, bricks\, etc.\n• Boats\n• Computers\n• Tires\n• Paint\, chemicals\, liquid waste\, gasoline\, oil\, or other hazardous materials\n• Animal wastes\n• Tear down of yard fencing\n• Tear down of sheds\n• Automobiles\, parts\, transmissions or engines\n• No motorcycles\n• Cut down trees or stumps
URL:https://pittsvillemd.gov/event/bulk-pickup-fall-2024/
END:VEVENT
BEGIN:VEVENT
DTSTART;TZID=America/New_York:20241118T190000
DTEND;TZID=America/New_York:20241118T190000
DTSTAMP:20260419T112520
CREATED:20241115T181829Z
LAST-MODIFIED:20241115T181829Z
UID:25763-1731956400-1731956400@pittsvillemd.gov
SUMMARY:Town Council Meeting
DESCRIPTION:
URL:https://pittsvillemd.gov/event/town-council-meeting-24/
LOCATION:Town Hall\, 7505 Gumboro Road\, Pittsville\, MD\, 21850\, United States
END:VEVENT
BEGIN:VEVENT
DTSTART;TZID=America/New_York:20241021T190000
DTEND;TZID=America/New_York:20241021T190000
DTSTAMP:20260419T112520
CREATED:20241018T173019Z
LAST-MODIFIED:20241018T173019Z
UID:25008-1729537200-1729537200@pittsvillemd.gov
SUMMARY:Town Council Meeting
DESCRIPTION:
URL:https://pittsvillemd.gov/event/town-council-meeting-23/
LOCATION:Town Hall\, 7505 Gumboro Road\, Pittsville\, MD\, 21850\, United States
END:VEVENT
BEGIN:VEVENT
DTSTART;TZID=America/New_York:20240916T190000
DTEND;TZID=America/New_York:20240916T190000
DTSTAMP:20260419T112520
CREATED:20240912T233516Z
LAST-MODIFIED:20240912T233516Z
UID:24762-1726513200-1726513200@pittsvillemd.gov
SUMMARY:Town Council Meeting
DESCRIPTION:
URL:https://pittsvillemd.gov/event/town-council-meeting-22/
LOCATION:Town Hall\, 7505 Gumboro Road\, Pittsville\, MD\, 21850\, United States
END:VEVENT
BEGIN:VEVENT
DTSTART;TZID=America/New_York:20240819T190000
DTEND;TZID=America/New_York:20240819T190000
DTSTAMP:20260419T112520
CREATED:20240817T235435Z
LAST-MODIFIED:20240817T235435Z
UID:20057-1724094000-1724094000@pittsvillemd.gov
SUMMARY:Town Council Meeting
DESCRIPTION:
URL:https://pittsvillemd.gov/event/town-council-meeting-21/
LOCATION:Town Hall\, 7505 Gumboro Road\, Pittsville\, MD\, 21850\, United States
END:VEVENT
BEGIN:VEVENT
DTSTART;TZID=America/New_York:20240815T210000
DTEND;TZID=America/New_York:20240815T210000
DTSTAMP:20260419T112520
CREATED:20240802T121156Z
LAST-MODIFIED:20240815T170019Z
UID:14631-1723755600-1723755600@pittsvillemd.gov
SUMMARY:Fireworks Show
DESCRIPTION:Stick around after Pittsville Night Out 2024 for the 2nd Annual Fireworks Show presented by the Town of Pittsville.
URL:https://pittsvillemd.gov/event/fireworks-show/
LOCATION:Pittsville Park\, 34514 Railroad Ave\, Pittsville\, MD\, 21850\, United States
END:VEVENT
BEGIN:VEVENT
DTSTART;TZID=America/New_York:20240815T173000
DTEND;TZID=America/New_York:20240815T203000
DTSTAMP:20260419T112520
CREATED:20240802T120429Z
LAST-MODIFIED:20240815T165923Z
UID:14627-1723743000-1723753800@pittsvillemd.gov
SUMMARY:Pittsville Night Out 2024
DESCRIPTION:
URL:https://pittsvillemd.gov/event/pittsville-night-out-2024/
LOCATION:Pittsville Park\, 34514 Railroad Ave\, Pittsville\, MD\, 21850\, United States
END:VEVENT
BEGIN:VEVENT
DTSTART;TZID=America/New_York:20240724T173000
DTEND;TZID=America/New_York:20240724T173000
DTSTAMP:20260419T112520
CREATED:20240718T191929Z
LAST-MODIFIED:20240718T191929Z
UID:9296-1721842200-1721842200@pittsvillemd.gov
SUMMARY:Pittsville Economic Development Commission Meeting
DESCRIPTION:
URL:https://pittsvillemd.gov/event/pittsville-economic-development-commission-meeting-2/
LOCATION:Town Hall\, 7505 Gumboro Road\, Pittsville\, MD\, 21850\, United States
END:VEVENT
BEGIN:VEVENT
DTSTART;TZID=America/New_York:20240715T190000
DTEND;TZID=America/New_York:20240715T190000
DTSTAMP:20260419T112520
CREATED:20240713T004339Z
LAST-MODIFIED:20240713T004339Z
UID:6015-1721070000-1721070000@pittsvillemd.gov
SUMMARY:Town Council Meeting
DESCRIPTION:
URL:https://pittsvillemd.gov/event/town-council-meeting-20/
LOCATION:Town Hall\, 7505 Gumboro Road\, Pittsville\, MD\, 21850\, United States
END:VEVENT
BEGIN:VEVENT
DTSTART;TZID=America/New_York:20240624T190000
DTEND;TZID=America/New_York:20240624T190000
DTSTAMP:20260419T112520
CREATED:20240619T013955Z
LAST-MODIFIED:20240619T013955Z
UID:2985-1719255600-1719255600@pittsvillemd.gov
SUMMARY:Town Council Meeting
DESCRIPTION:
URL:https://pittsvillemd.gov/event/town-council-meeting-19/
LOCATION:Town Hall\, 7505 Gumboro Road\, Pittsville\, MD\, 21850\, United States
END:VEVENT
BEGIN:VEVENT
DTSTART;TZID=America/New_York:20240624T183000
DTEND;TZID=America/New_York:20240624T183000
DTSTAMP:20260419T112520
CREATED:20240614T195045Z
LAST-MODIFIED:20240614T195045Z
UID:2980-1719253800-1719253800@pittsvillemd.gov
SUMMARY:Public Hearing: FY 25 Municipal Operating Budget
DESCRIPTION:For additional information: View Public Notice
URL:https://pittsvillemd.gov/event/public-hearing-fy-25-municipal-operating-budget/
LOCATION:Town Hall\, 7505 Gumboro Road\, Pittsville\, MD\, 21850\, United States
END:VEVENT
BEGIN:VEVENT
DTSTART;TZID=America/New_York:20240617T180000
DTEND;TZID=America/New_York:20240617T180000
DTSTAMP:20260419T112520
CREATED:20240607T222540Z
LAST-MODIFIED:20240607T222540Z
UID:2975-1718647200-1718647200@pittsvillemd.gov
SUMMARY:Public Hearing: Proposed Real Property Tax Rate Increase
DESCRIPTION:For additional information: View Public Notice
URL:https://pittsvillemd.gov/event/public-hearing-proposed-real-property-tax-rate-increase/
LOCATION:Town Hall\, 7505 Gumboro Road\, Pittsville\, MD\, 21850\, United States
END:VEVENT
BEGIN:VEVENT
DTSTART;TZID=America/New_York:20240520T190000
DTEND;TZID=America/New_York:20240520T190000
DTSTAMP:20260419T112520
CREATED:20240517T220114Z
LAST-MODIFIED:20240517T220114Z
UID:2962-1716231600-1716231600@pittsvillemd.gov
SUMMARY:Town Council Meeting
DESCRIPTION:
URL:https://pittsvillemd.gov/event/town-council-meeting-18/
LOCATION:Town Hall\, 7505 Gumboro Road\, Pittsville\, MD\, 21850\, United States
END:VEVENT
BEGIN:VEVENT
DTSTART;TZID=America/New_York:20240418T060000
DTEND;TZID=America/New_York:20240418T060000
DTSTAMP:20260419T112520
CREATED:20240405T013953Z
LAST-MODIFIED:20240405T013954Z
UID:2947-1713420000-1713420000@pittsvillemd.gov
SUMMARY:Bulk Pickup: Spring 2024
DESCRIPTION:BULK PICK-UP DAY: Thursday\, April 18\, 2024\nPLEASE HAVE YOUR TRASH CURBSIDE BY 6:00 A.M. \nWILL TAKE: \n• Cardboard boxes\n• Appliances\n• Furniture\, picnic tables\, chairs\, and benches\n• Mattresses and box springs\n• Household items: clothing\, books\, toys\, etc. (need to be bagged\, but under 50 pounds each)\n• Bikes and trikes\n• Leaves (placed in bags) \nWILL NOT TAKE: \n• Construction debris: lumber\, cinder block\, bricks\, etc.\n• Boats\n• Computers\n• Tires\n• Paint\, chemicals\, liquid waste\, oil\, or other hazardous materials\n• Animal wastes\n• Tear down of yard fencing\n• Tear down of sheds\n• Automobiles\, parts\, transmissions or engines\n• No motorcycles\n• Cut down trees or stumps
URL:https://pittsvillemd.gov/event/bulk-pickup-spring-2024/
END:VEVENT
BEGIN:VEVENT
DTSTART;TZID=America/New_York:20240415T190000
DTEND;TZID=America/New_York:20240415T190000
DTSTAMP:20260419T112520
CREATED:20240413T005450Z
LAST-MODIFIED:20240413T005450Z
UID:2950-1713207600-1713207600@pittsvillemd.gov
SUMMARY:Town Council Meeting
DESCRIPTION:
URL:https://pittsvillemd.gov/event/town-council-meeting-17/
LOCATION:Town Hall\, 7505 Gumboro Road\, Pittsville\, MD\, 21850\, United States
END:VEVENT
END:VCALENDAR